BEGIN:VCALENDAR
VERSION:2.0
PRODID:-//hacksw/handcal//NONSGML v1.0//EN
BEGIN:VEVENT
UID:17377@unige.ch
DTSTAMP:20250220T180000Z
DTSTART:20250220T180000Z
DTEND:20250220T200000Z
SUMMARY:Chœur de chambre de l'Université
DESCRIPTION:Auditionle 26 février de 18h30 à 21h, salle M1160chaque audition comporte deux parties: une pièce à choix (avec ou sans accompagnement) et une pièce à préparer qui sera envoyée la veille de l'auditions'inscrire à une auditionInvestissement personnelChaque programme est préparé avec un nombre relativement restreint de répétitions, il est nécessaire de vous engager à une grande assiduité et de préparer individuellement les partitions.Cahier de partitionsPour obtenir le cahier des partitions après inscription, contactez le bureau des Activités culturelles ou les responsables du Chœur de chambre.
LOCATION:Uni Mail | M1170 - Boulevard du Pont-d’Arve 40, 1205 Genève
GEO:46.195041;6.139897
URL:https://vie-de-campus.unige.ch/catalogue/P2844
END:VEVENT
BEGIN:VEVENT
UID:17378@unige.ch
DTSTAMP:20250227T180000Z
DTSTART:20250227T180000Z
DTEND:20250227T200000Z
SUMMARY:Chœur de chambre de l'Université
DESCRIPTION:Auditionle 26 février de 18h30 à 21h, salle M1160chaque audition comporte deux parties: une pièce à choix (avec ou sans accompagnement) et une pièce à préparer qui sera envoyée la veille de l'auditions'inscrire à une auditionInvestissement personnelChaque programme est préparé avec un nombre relativement restreint de répétitions, il est nécessaire de vous engager à une grande assiduité et de préparer individuellement les partitions.Cahier de partitionsPour obtenir le cahier des partitions après inscription, contactez le bureau des Activités culturelles ou les responsables du Chœur de chambre.
LOCATION:Uni Mail | M1170 - Boulevard du Pont-d’Arve 40, 1205 Genève
GEO:46.195041;6.139897
URL:https://vie-de-campus.unige.ch/catalogue/P2844
END:VEVENT
BEGIN:VEVENT
UID:17379@unige.ch
DTSTAMP:20250306T180000Z
DTSTART:20250306T180000Z
DTEND:20250306T200000Z
SUMMARY:Chœur de chambre de l'Université
DESCRIPTION:Auditionle 26 février de 18h30 à 21h, salle M1160chaque audition comporte deux parties: une pièce à choix (avec ou sans accompagnement) et une pièce à préparer qui sera envoyée la veille de l'auditions'inscrire à une auditionInvestissement personnelChaque programme est préparé avec un nombre relativement restreint de répétitions, il est nécessaire de vous engager à une grande assiduité et de préparer individuellement les partitions.Cahier de partitionsPour obtenir le cahier des partitions après inscription, contactez le bureau des Activités culturelles ou les responsables du Chœur de chambre.
LOCATION:Uni Mail | M1170 - Boulevard du Pont-d’Arve 40, 1205 Genève
GEO:46.195041;6.139897
URL:https://vie-de-campus.unige.ch/catalogue/P2844
END:VEVENT
BEGIN:VEVENT
UID:20592@unige.ch
DTSTAMP:20250309T090000Z
DTSTART:20250309T090000Z
DTEND:20250309T150000Z
SUMMARY:Chœur de chambre de l'Université
DESCRIPTION:Auditionle 26 février de 18h30 à 21h, salle M1160chaque audition comporte deux parties: une pièce à choix (avec ou sans accompagnement) et une pièce à préparer qui sera envoyée la veille de l'auditions'inscrire à une auditionInvestissement personnelChaque programme est préparé avec un nombre relativement restreint de répétitions, il est nécessaire de vous engager à une grande assiduité et de préparer individuellement les partitions.Cahier de partitionsPour obtenir le cahier des partitions après inscription, contactez le bureau des Activités culturelles ou les responsables du Chœur de chambre.
LOCATION:Uni Mail | MS140 - Boulevard du Pont-d’Arve 40, 1205 Genève
GEO:46.195041;6.139897
URL:https://vie-de-campus.unige.ch/catalogue/P2844
END:VEVENT
BEGIN:VEVENT
UID:18206@unige.ch
DTSTAMP:20250313T180000Z
DTSTART:20250313T180000Z
DTEND:20250313T200000Z
SUMMARY:Chœur de chambre de l'Université
DESCRIPTION:Auditionle 26 février de 18h30 à 21h, salle M1160chaque audition comporte deux parties: une pièce à choix (avec ou sans accompagnement) et une pièce à préparer qui sera envoyée la veille de l'auditions'inscrire à une auditionInvestissement personnelChaque programme est préparé avec un nombre relativement restreint de répétitions, il est nécessaire de vous engager à une grande assiduité et de préparer individuellement les partitions.Cahier de partitionsPour obtenir le cahier des partitions après inscription, contactez le bureau des Activités culturelles ou les responsables du Chœur de chambre.
LOCATION:Uni Mail | M1170 - Boulevard du Pont-d’Arve 40, 1205 Genève
GEO:46.195041;6.139897
URL:https://vie-de-campus.unige.ch/catalogue/P2844
END:VEVENT
BEGIN:VEVENT
UID:17381@unige.ch
DTSTAMP:20250320T180000Z
DTSTART:20250320T180000Z
DTEND:20250320T200000Z
SUMMARY:Chœur de chambre de l'Université
DESCRIPTION:Auditionle 26 février de 18h30 à 21h, salle M1160chaque audition comporte deux parties: une pièce à choix (avec ou sans accompagnement) et une pièce à préparer qui sera envoyée la veille de l'auditions'inscrire à une auditionInvestissement personnelChaque programme est préparé avec un nombre relativement restreint de répétitions, il est nécessaire de vous engager à une grande assiduité et de préparer individuellement les partitions.Cahier de partitionsPour obtenir le cahier des partitions après inscription, contactez le bureau des Activités culturelles ou les responsables du Chœur de chambre.
LOCATION:Uni Mail | M1170 - Boulevard du Pont-d’Arve 40, 1205 Genève
GEO:46.195041;6.139897
URL:https://vie-de-campus.unige.ch/catalogue/P2844
END:VEVENT
BEGIN:VEVENT
UID:17382@unige.ch
DTSTAMP:20250327T180000Z
DTSTART:20250327T180000Z
DTEND:20250327T200000Z
SUMMARY:Chœur de chambre de l'Université
DESCRIPTION:Auditionle 26 février de 18h30 à 21h, salle M1160chaque audition comporte deux parties: une pièce à choix (avec ou sans accompagnement) et une pièce à préparer qui sera envoyée la veille de l'auditions'inscrire à une auditionInvestissement personnelChaque programme est préparé avec un nombre relativement restreint de répétitions, il est nécessaire de vous engager à une grande assiduité et de préparer individuellement les partitions.Cahier de partitionsPour obtenir le cahier des partitions après inscription, contactez le bureau des Activités culturelles ou les responsables du Chœur de chambre.
LOCATION:Uni Mail | M1170 - Boulevard du Pont-d’Arve 40, 1205 Genève
GEO:46.195041;6.139897
URL:https://vie-de-campus.unige.ch/catalogue/P2844
END:VEVENT
BEGIN:VEVENT
UID:19124@unige.ch
DTSTAMP:20250402T170000Z
DTSTART:20250402T170000Z
DTEND:20250402T190000Z
SUMMARY:Chœur de chambre de l'Université
DESCRIPTION:Auditionle 26 février de 18h30 à 21h, salle M1160chaque audition comporte deux parties: une pièce à choix (avec ou sans accompagnement) et une pièce à préparer qui sera envoyée la veille de l'auditions'inscrire à une auditionInvestissement personnelChaque programme est préparé avec un nombre relativement restreint de répétitions, il est nécessaire de vous engager à une grande assiduité et de préparer individuellement les partitions.Cahier de partitionsPour obtenir le cahier des partitions après inscription, contactez le bureau des Activités culturelles ou les responsables du Chœur de chambre.
LOCATION:Uni Dufour | U600 (Piaget) - Rue du Général-Dufour 24, 1204 Genève
GEO:46.199699;6.142187
URL:https://vie-de-campus.unige.ch/catalogue/P2844
END:VEVENT
BEGIN:VEVENT
UID:17383@unige.ch
DTSTAMP:20250403T160000Z
DTSTART:20250403T160000Z
DTEND:20250403T190000Z
SUMMARY:Chœur de chambre de l'Université
DESCRIPTION:Auditionle 26 février de 18h30 à 21h, salle M1160chaque audition comporte deux parties: une pièce à choix (avec ou sans accompagnement) et une pièce à préparer qui sera envoyée la veille de l'auditions'inscrire à une auditionInvestissement personnelChaque programme est préparé avec un nombre relativement restreint de répétitions, il est nécessaire de vous engager à une grande assiduité et de préparer individuellement les partitions.Cahier de partitionsPour obtenir le cahier des partitions après inscription, contactez le bureau des Activités culturelles ou les responsables du Chœur de chambre.
LOCATION:Uni Mail | M1170 - Boulevard du Pont-d’Arve 40, 1205 Genève
GEO:46.195041;6.139897
URL:https://vie-de-campus.unige.ch/catalogue/P2844
END:VEVENT
BEGIN:VEVENT
UID:17384@unige.ch
DTSTAMP:20250410T170000Z
DTSTART:20250410T170000Z
DTEND:20250410T190000Z
SUMMARY:Chœur de chambre de l'Université
DESCRIPTION:Auditionle 26 février de 18h30 à 21h, salle M1160chaque audition comporte deux parties: une pièce à choix (avec ou sans accompagnement) et une pièce à préparer qui sera envoyée la veille de l'auditions'inscrire à une auditionInvestissement personnelChaque programme est préparé avec un nombre relativement restreint de répétitions, il est nécessaire de vous engager à une grande assiduité et de préparer individuellement les partitions.Cahier de partitionsPour obtenir le cahier des partitions après inscription, contactez le bureau des Activités culturelles ou les responsables du Chœur de chambre.
LOCATION:Uni Mail | M1170 - Boulevard du Pont-d’Arve 40, 1205 Genève
GEO:46.195041;6.139897
URL:https://vie-de-campus.unige.ch/catalogue/P2844
END:VEVENT
BEGIN:VEVENT
UID:17385@unige.ch
DTSTAMP:20250417T170000Z
DTSTART:20250417T170000Z
DTEND:20250417T190000Z
SUMMARY:Chœur de chambre de l'Université
DESCRIPTION:Auditionle 26 février de 18h30 à 21h, salle M1160chaque audition comporte deux parties: une pièce à choix (avec ou sans accompagnement) et une pièce à préparer qui sera envoyée la veille de l'auditions'inscrire à une auditionInvestissement personnelChaque programme est préparé avec un nombre relativement restreint de répétitions, il est nécessaire de vous engager à une grande assiduité et de préparer individuellement les partitions.Cahier de partitionsPour obtenir le cahier des partitions après inscription, contactez le bureau des Activités culturelles ou les responsables du Chœur de chambre.
LOCATION:Uni Mail | M1170 - Boulevard du Pont-d’Arve 40, 1205 Genève
GEO:46.195041;6.139897
URL:https://vie-de-campus.unige.ch/catalogue/P2844
END:VEVENT
BEGIN:VEVENT
UID:17386@unige.ch
DTSTAMP:20250508T170000Z
DTSTART:20250508T170000Z
DTEND:20250508T190000Z
SUMMARY:Chœur de chambre de l'Université
DESCRIPTION:Auditionle 26 février de 18h30 à 21h, salle M1160chaque audition comporte deux parties: une pièce à choix (avec ou sans accompagnement) et une pièce à préparer qui sera envoyée la veille de l'auditions'inscrire à une auditionInvestissement personnelChaque programme est préparé avec un nombre relativement restreint de répétitions, il est nécessaire de vous engager à une grande assiduité et de préparer individuellement les partitions.Cahier de partitionsPour obtenir le cahier des partitions après inscription, contactez le bureau des Activités culturelles ou les responsables du Chœur de chambre.
LOCATION:Uni Mail | M1170 - Boulevard du Pont-d’Arve 40, 1205 Genève
GEO:46.195041;6.139897
URL:https://vie-de-campus.unige.ch/catalogue/P2844
END:VEVENT
BEGIN:VEVENT
UID:19125@unige.ch
DTSTAMP:20250510T120000Z
DTSTART:20250510T120000Z
DTEND:20250510T153000Z
SUMMARY:Chœur de chambre de l'Université
DESCRIPTION:Auditionle 26 février de 18h30 à 21h, salle M1160chaque audition comporte deux parties: une pièce à choix (avec ou sans accompagnement) et une pièce à préparer qui sera envoyée la veille de l'auditions'inscrire à une auditionInvestissement personnelChaque programme est préparé avec un nombre relativement restreint de répétitions, il est nécessaire de vous engager à une grande assiduité et de préparer individuellement les partitions.Cahier de partitionsPour obtenir le cahier des partitions après inscription, contactez le bureau des Activités culturelles ou les responsables du Chœur de chambre.
LOCATION:Uni Mail | M1170 - Boulevard du Pont-d’Arve 40, 1205 Genève
GEO:46.195041;6.139897
URL:https://vie-de-campus.unige.ch/catalogue/P2844
END:VEVENT
BEGIN:VEVENT
UID:17387@unige.ch
DTSTAMP:20250515T170000Z
DTSTART:20250515T170000Z
DTEND:20250515T190000Z
SUMMARY:Chœur de chambre de l'Université
DESCRIPTION:Auditionle 26 février de 18h30 à 21h, salle M1160chaque audition comporte deux parties: une pièce à choix (avec ou sans accompagnement) et une pièce à préparer qui sera envoyée la veille de l'auditions'inscrire à une auditionInvestissement personnelChaque programme est préparé avec un nombre relativement restreint de répétitions, il est nécessaire de vous engager à une grande assiduité et de préparer individuellement les partitions.Cahier de partitionsPour obtenir le cahier des partitions après inscription, contactez le bureau des Activités culturelles ou les responsables du Chœur de chambre.
LOCATION:Uni Mail | Verrière (3e étage) - Bd du Pont-d'Arve 40, 1205 Genève
URL:https://vie-de-campus.unige.ch/catalogue/P2844
END:VEVENT
BEGIN:VEVENT
UID:20568@unige.ch
DTSTAMP:20250519T170000Z
DTSTART:20250519T170000Z
DTEND:20250519T190000Z
SUMMARY:Chœur de chambre de l'Université
DESCRIPTION:Auditionle 26 février de 18h30 à 21h, salle M1160chaque audition comporte deux parties: une pièce à choix (avec ou sans accompagnement) et une pièce à préparer qui sera envoyée la veille de l'auditions'inscrire à une auditionInvestissement personnelChaque programme est préparé avec un nombre relativement restreint de répétitions, il est nécessaire de vous engager à une grande assiduité et de préparer individuellement les partitions.Cahier de partitionsPour obtenir le cahier des partitions après inscription, contactez le bureau des Activités culturelles ou les responsables du Chœur de chambre.
LOCATION:Uni Mail | Verrière (3e étage) - Bd du Pont-d'Arve 40, 1205 Genève
URL:https://vie-de-campus.unige.ch/catalogue/P2844
END:VEVENT
BEGIN:VEVENT
UID:17388@unige.ch
DTSTAMP:20250521T170000Z
DTSTART:20250521T170000Z
DTEND:20250521T190000Z
SUMMARY:Chœur de chambre de l'Université
DESCRIPTION:Auditionle 26 février de 18h30 à 21h, salle M1160chaque audition comporte deux parties: une pièce à choix (avec ou sans accompagnement) et une pièce à préparer qui sera envoyée la veille de l'auditions'inscrire à une auditionInvestissement personnelChaque programme est préparé avec un nombre relativement restreint de répétitions, il est nécessaire de vous engager à une grande assiduité et de préparer individuellement les partitions.Cahier de partitionsPour obtenir le cahier des partitions après inscription, contactez le bureau des Activités culturelles ou les responsables du Chœur de chambre.
LOCATION:Uni Mail | Verrière (3e étage) - Bd du Pont-d'Arve 40, 1205 Genève
URL:https://vie-de-campus.unige.ch/catalogue/P2844
END:VEVENT
END:VCALENDAR
