BEGIN:VCALENDAR
VERSION:2.0
PRODID:-//hacksw/handcal//NONSGML v1.0//EN
BEGIN:VEVENT
UID:17452@unige.ch
DTSTAMP:20250426T080000Z
DTSTART:20250426T080000Z
DTEND:20250426T100000Z
SUMMARY:Bachata
DESCRIPTION:Tenue Chaussures qui glissent facilement sur le sol mais non de ville. Inscriptions Inscriptions prioritaire à la communauté universitaire (étudiant-es, personnel, alumni). Ouverture des inscriptions aux personnes externes le 17 février à 10h. Un nombre de 15 inscriptions minimum est requis pour le maintien du stage.
LOCATION:Uni Mail | MS140 - Boulevard du Pont-d’Arve 40, 1205 Genève
GEO:46.195041;6.139897
URL:https://vie-de-campus.unige.ch/catalogue/P2851
END:VEVENT
BEGIN:VEVENT
UID:17453@unige.ch
DTSTAMP:20250426T110000Z
DTSTART:20250426T110000Z
DTEND:20250426T140000Z
SUMMARY:Bachata
DESCRIPTION:Tenue Chaussures qui glissent facilement sur le sol mais non de ville. Inscriptions Inscriptions prioritaire à la communauté universitaire (étudiant-es, personnel, alumni). Ouverture des inscriptions aux personnes externes le 17 février à 10h. Un nombre de 15 inscriptions minimum est requis pour le maintien du stage.
LOCATION:Uni Mail | MS140 - Boulevard du Pont-d’Arve 40, 1205 Genève
GEO:46.195041;6.139897
URL:https://vie-de-campus.unige.ch/catalogue/P2851
END:VEVENT
END:VCALENDAR
