BEGIN:VCALENDAR
VERSION:2.0
PRODID:-//hacksw/handcal//NONSGML v1.0//EN
BEGIN:VEVENT
UID:18007@unige.ch
DTSTAMP:20250324T170000Z
DTSTART:20250324T170000Z
DTEND:20250324T200000Z
SUMMARY:Gravure
DESCRIPTION:Matériel Matériel de base compris dans le prix. Inscriptions Un nombre de 4 inscriptions minimum est requis pour le maintien de l’atelier. Toute inscription (confirmée par le/la participant-e et par l’atelier) est ferme. En cas de désistement, le prix de l’inscription est dû. Sauf si, bien sûr, une personne peut vous remplacer.
LOCATION:Atelier GE Grave - Route de Malagnou 17, 1208 Genève
GEO:46.19915;6.159727
URL:https://vie-de-campus.unige.ch/catalogue/P3089
END:VEVENT
BEGIN:VEVENT
UID:18008@unige.ch
DTSTAMP:20250331T160000Z
DTSTART:20250331T160000Z
DTEND:20250331T190000Z
SUMMARY:Gravure
DESCRIPTION:Matériel Matériel de base compris dans le prix. Inscriptions Un nombre de 4 inscriptions minimum est requis pour le maintien de l’atelier. Toute inscription (confirmée par le/la participant-e et par l’atelier) est ferme. En cas de désistement, le prix de l’inscription est dû. Sauf si, bien sûr, une personne peut vous remplacer.
LOCATION:Atelier GE Grave - Route de Malagnou 17, 1208 Genève
GEO:46.19915;6.159727
URL:https://vie-de-campus.unige.ch/catalogue/P3089
END:VEVENT
BEGIN:VEVENT
UID:18009@unige.ch
DTSTAMP:20250407T160000Z
DTSTART:20250407T160000Z
DTEND:20250407T190000Z
SUMMARY:Gravure
DESCRIPTION:Matériel Matériel de base compris dans le prix. Inscriptions Un nombre de 4 inscriptions minimum est requis pour le maintien de l’atelier. Toute inscription (confirmée par le/la participant-e et par l’atelier) est ferme. En cas de désistement, le prix de l’inscription est dû. Sauf si, bien sûr, une personne peut vous remplacer.
LOCATION:Atelier GE Grave - Route de Malagnou 17, 1208 Genève
GEO:46.19915;6.159727
URL:https://vie-de-campus.unige.ch/catalogue/P3089
END:VEVENT
BEGIN:VEVENT
UID:18010@unige.ch
DTSTAMP:20250414T160000Z
DTSTART:20250414T160000Z
DTEND:20250414T190000Z
SUMMARY:Gravure
DESCRIPTION:Matériel Matériel de base compris dans le prix. Inscriptions Un nombre de 4 inscriptions minimum est requis pour le maintien de l’atelier. Toute inscription (confirmée par le/la participant-e et par l’atelier) est ferme. En cas de désistement, le prix de l’inscription est dû. Sauf si, bien sûr, une personne peut vous remplacer.
LOCATION:Atelier GE Grave - Route de Malagnou 17, 1208 Genève
GEO:46.19915;6.159727
URL:https://vie-de-campus.unige.ch/catalogue/P3089
END:VEVENT
BEGIN:VEVENT
UID:18014@unige.ch
DTSTAMP:20250512T160000Z
DTSTART:20250512T160000Z
DTEND:20250512T190000Z
SUMMARY:Gravure
DESCRIPTION:Matériel Matériel de base compris dans le prix. Inscriptions Un nombre de 4 inscriptions minimum est requis pour le maintien de l’atelier. Toute inscription (confirmée par le/la participant-e et par l’atelier) est ferme. En cas de désistement, le prix de l’inscription est dû. Sauf si, bien sûr, une personne peut vous remplacer.
LOCATION:Atelier GE Grave - Route de Malagnou 17, 1208 Genève
GEO:46.19915;6.159727
URL:https://vie-de-campus.unige.ch/catalogue/P3089
END:VEVENT
END:VCALENDAR
