BEGIN:VCALENDAR
VERSION:2.0
PRODID:-//hacksw/handcal//NONSGML v1.0//EN
BEGIN:VEVENT
UID:21377@unige.ch
DTSTAMP:20250428T060000Z
DTSTART:20250428T060000Z
DTEND:20250428T160000Z
SUMMARY:Exposition
DESCRIPTION:Retrouvez l'exposition dans le hall d'Uni Mail du 28 avril au 4 mai !
LOCATION:Uni Mail | Verrière (3e étage) et devant salle MS180 (sous-sol) - Bd du Pont-d'Arve 40, 1205 Genève
URL:https://vie-de-campus.unige.ch/catalogue/P3268
END:VEVENT
BEGIN:VEVENT
UID:21378@unige.ch
DTSTAMP:20250429T060000Z
DTSTART:20250429T060000Z
DTEND:20250429T160000Z
SUMMARY:Exposition
DESCRIPTION:Retrouvez l'exposition dans le hall d'Uni Mail du 28 avril au 4 mai !
LOCATION:Uni Mail | Verrière (3e étage) et devant salle MS180 (sous-sol) - Bd du Pont-d'Arve 40, 1205 Genève
URL:https://vie-de-campus.unige.ch/catalogue/P3268
END:VEVENT
BEGIN:VEVENT
UID:21379@unige.ch
DTSTAMP:20250430T060000Z
DTSTART:20250430T060000Z
DTEND:20250430T160000Z
SUMMARY:Exposition
DESCRIPTION:Retrouvez l'exposition dans le hall d'Uni Mail du 28 avril au 4 mai !
LOCATION:Uni Mail | Verrière (3e étage) et devant salle MS180 (sous-sol) - Bd du Pont-d'Arve 40, 1205 Genève
URL:https://vie-de-campus.unige.ch/catalogue/P3268
END:VEVENT
BEGIN:VEVENT
UID:21380@unige.ch
DTSTAMP:20250501T060000Z
DTSTART:20250501T060000Z
DTEND:20250501T160000Z
SUMMARY:Exposition
DESCRIPTION:Retrouvez l'exposition dans le hall d'Uni Mail du 28 avril au 4 mai !
LOCATION:Uni Mail | Verrière (3e étage) et devant salle MS180 (sous-sol) - Bd du Pont-d'Arve 40, 1205 Genève
URL:https://vie-de-campus.unige.ch/catalogue/P3268
END:VEVENT
BEGIN:VEVENT
UID:21381@unige.ch
DTSTAMP:20250502T060000Z
DTSTART:20250502T060000Z
DTEND:20250502T160000Z
SUMMARY:Exposition
DESCRIPTION:Retrouvez l'exposition dans le hall d'Uni Mail du 28 avril au 4 mai !
LOCATION:Uni Mail | Verrière (3e étage) et devant salle MS180 (sous-sol) - Bd du Pont-d'Arve 40, 1205 Genève
URL:https://vie-de-campus.unige.ch/catalogue/P3268
END:VEVENT
BEGIN:VEVENT
UID:21382@unige.ch
DTSTAMP:20250503T060000Z
DTSTART:20250503T060000Z
DTEND:20250503T160000Z
SUMMARY:Exposition
DESCRIPTION:Retrouvez l'exposition dans le hall d'Uni Mail du 28 avril au 4 mai !
LOCATION:Uni Mail | Verrière (3e étage) et devant salle MS180 (sous-sol) - Bd du Pont-d'Arve 40, 1205 Genève
URL:https://vie-de-campus.unige.ch/catalogue/P3268
END:VEVENT
BEGIN:VEVENT
UID:21383@unige.ch
DTSTAMP:20250504T060000Z
DTSTART:20250504T060000Z
DTEND:20250504T160000Z
SUMMARY:Exposition
DESCRIPTION:Retrouvez l'exposition dans le hall d'Uni Mail du 28 avril au 4 mai !
LOCATION:Uni Mail | Verrière (3e étage) et devant salle MS180 (sous-sol) - Bd du Pont-d'Arve 40, 1205 Genève
URL:https://vie-de-campus.unige.ch/catalogue/P3268
END:VEVENT
BEGIN:VEVENT
UID:21384@unige.ch
DTSTAMP:20250505T060000Z
DTSTART:20250505T060000Z
DTEND:20250505T160000Z
SUMMARY:Exposition
DESCRIPTION:Retrouvez l'exposition dans le hall d'Uni Mail du 28 avril au 4 mai !
LOCATION:Uni Mail | Verrière (3e étage) et devant salle MS180 (sous-sol) - Bd du Pont-d'Arve 40, 1205 Genève
URL:https://vie-de-campus.unige.ch/catalogue/P3268
END:VEVENT
BEGIN:VEVENT
UID:21385@unige.ch
DTSTAMP:20250506T060000Z
DTSTART:20250506T060000Z
DTEND:20250506T160000Z
SUMMARY:Exposition
DESCRIPTION:Retrouvez l'exposition dans le hall d'Uni Mail du 28 avril au 4 mai !
LOCATION:Uni Mail | Verrière (3e étage) et devant salle MS180 (sous-sol) - Bd du Pont-d'Arve 40, 1205 Genève
URL:https://vie-de-campus.unige.ch/catalogue/P3268
END:VEVENT
BEGIN:VEVENT
UID:21386@unige.ch
DTSTAMP:20250507T060000Z
DTSTART:20250507T060000Z
DTEND:20250507T160000Z
SUMMARY:Exposition
DESCRIPTION:Retrouvez l'exposition dans le hall d'Uni Mail du 28 avril au 4 mai !
LOCATION:Uni Mail | Verrière (3e étage) et devant salle MS180 (sous-sol) - Bd du Pont-d'Arve 40, 1205 Genève
URL:https://vie-de-campus.unige.ch/catalogue/P3268
END:VEVENT
BEGIN:VEVENT
UID:21387@unige.ch
DTSTAMP:20250508T060000Z
DTSTART:20250508T060000Z
DTEND:20250508T160000Z
SUMMARY:Exposition
DESCRIPTION:Retrouvez l'exposition dans le hall d'Uni Mail du 28 avril au 4 mai !
LOCATION:Uni Mail | Verrière (3e étage) et devant salle MS180 (sous-sol) - Bd du Pont-d'Arve 40, 1205 Genève
URL:https://vie-de-campus.unige.ch/catalogue/P3268
END:VEVENT
BEGIN:VEVENT
UID:21388@unige.ch
DTSTAMP:20250509T060000Z
DTSTART:20250509T060000Z
DTEND:20250509T160000Z
SUMMARY:Exposition
DESCRIPTION:Retrouvez l'exposition dans le hall d'Uni Mail du 28 avril au 4 mai !
LOCATION:Uni Mail | Verrière (3e étage) et devant salle MS180 (sous-sol) - Bd du Pont-d'Arve 40, 1205 Genève
URL:https://vie-de-campus.unige.ch/catalogue/P3268
END:VEVENT
BEGIN:VEVENT
UID:21389@unige.ch
DTSTAMP:20250510T060000Z
DTSTART:20250510T060000Z
DTEND:20250510T160000Z
SUMMARY:Exposition
DESCRIPTION:Retrouvez l'exposition dans le hall d'Uni Mail du 28 avril au 4 mai !
LOCATION:Uni Mail | Verrière (3e étage) et devant salle MS180 (sous-sol) - Bd du Pont-d'Arve 40, 1205 Genève
URL:https://vie-de-campus.unige.ch/catalogue/P3268
END:VEVENT
BEGIN:VEVENT
UID:21390@unige.ch
DTSTAMP:20250511T060000Z
DTSTART:20250511T060000Z
DTEND:20250511T160000Z
SUMMARY:Exposition
DESCRIPTION:Retrouvez l'exposition dans le hall d'Uni Mail du 28 avril au 4 mai !
LOCATION:Uni Mail | Verrière (3e étage) et devant salle MS180 (sous-sol) - Bd du Pont-d'Arve 40, 1205 Genève
URL:https://vie-de-campus.unige.ch/catalogue/P3268
END:VEVENT
BEGIN:VEVENT
UID:21391@unige.ch
DTSTAMP:20250512T060000Z
DTSTART:20250512T060000Z
DTEND:20250512T160000Z
SUMMARY:Exposition
DESCRIPTION:Retrouvez l'exposition dans le hall d'Uni Mail du 28 avril au 4 mai !
LOCATION:Uni Mail | Verrière (3e étage) et devant salle MS180 (sous-sol) - Bd du Pont-d'Arve 40, 1205 Genève
URL:https://vie-de-campus.unige.ch/catalogue/P3268
END:VEVENT
BEGIN:VEVENT
UID:21392@unige.ch
DTSTAMP:20250513T060000Z
DTSTART:20250513T060000Z
DTEND:20250513T160000Z
SUMMARY:Exposition
DESCRIPTION:Retrouvez l'exposition dans le hall d'Uni Mail du 28 avril au 4 mai !
LOCATION:Uni Mail | Verrière (3e étage) et devant salle MS180 (sous-sol) - Bd du Pont-d'Arve 40, 1205 Genève
URL:https://vie-de-campus.unige.ch/catalogue/P3268
END:VEVENT
BEGIN:VEVENT
UID:21393@unige.ch
DTSTAMP:20250514T060000Z
DTSTART:20250514T060000Z
DTEND:20250514T160000Z
SUMMARY:Exposition
DESCRIPTION:Retrouvez l'exposition dans le hall d'Uni Mail du 28 avril au 4 mai !
LOCATION:Uni Mail | Verrière (3e étage) et devant salle MS180 (sous-sol) - Bd du Pont-d'Arve 40, 1205 Genève
URL:https://vie-de-campus.unige.ch/catalogue/P3268
END:VEVENT
BEGIN:VEVENT
UID:21394@unige.ch
DTSTAMP:20250515T060000Z
DTSTART:20250515T060000Z
DTEND:20250515T160000Z
SUMMARY:Exposition
DESCRIPTION:Retrouvez l'exposition dans le hall d'Uni Mail du 28 avril au 4 mai !
LOCATION:Uni Mail | Verrière (3e étage) et devant salle MS180 (sous-sol) - Bd du Pont-d'Arve 40, 1205 Genève
URL:https://vie-de-campus.unige.ch/catalogue/P3268
END:VEVENT
BEGIN:VEVENT
UID:21395@unige.ch
DTSTAMP:20250516T060000Z
DTSTART:20250516T060000Z
DTEND:20250516T160000Z
SUMMARY:Exposition
DESCRIPTION:Retrouvez l'exposition dans le hall d'Uni Mail du 28 avril au 4 mai !
LOCATION:Uni Mail | Verrière (3e étage) et devant salle MS180 (sous-sol) - Bd du Pont-d'Arve 40, 1205 Genève
URL:https://vie-de-campus.unige.ch/catalogue/P3268
END:VEVENT
BEGIN:VEVENT
UID:21396@unige.ch
DTSTAMP:20250517T060000Z
DTSTART:20250517T060000Z
DTEND:20250517T160000Z
SUMMARY:Exposition
DESCRIPTION:Retrouvez l'exposition dans le hall d'Uni Mail du 28 avril au 4 mai !
LOCATION:Uni Mail | Verrière (3e étage) et devant salle MS180 (sous-sol) - Bd du Pont-d'Arve 40, 1205 Genève
URL:https://vie-de-campus.unige.ch/catalogue/P3268
END:VEVENT
BEGIN:VEVENT
UID:21397@unige.ch
DTSTAMP:20250518T060000Z
DTSTART:20250518T060000Z
DTEND:20250518T160000Z
SUMMARY:Exposition
DESCRIPTION:Retrouvez l'exposition dans le hall d'Uni Mail du 28 avril au 4 mai !
LOCATION:Uni Mail | Verrière (3e étage) et devant salle MS180 (sous-sol) - Bd du Pont-d'Arve 40, 1205 Genève
URL:https://vie-de-campus.unige.ch/catalogue/P3268
END:VEVENT
BEGIN:VEVENT
UID:21398@unige.ch
DTSTAMP:20250519T060000Z
DTSTART:20250519T060000Z
DTEND:20250519T160000Z
SUMMARY:Exposition
DESCRIPTION:Retrouvez l'exposition dans le hall d'Uni Mail du 28 avril au 4 mai !
LOCATION:Uni Mail | Verrière (3e étage) et devant salle MS180 (sous-sol) - Bd du Pont-d'Arve 40, 1205 Genève
URL:https://vie-de-campus.unige.ch/catalogue/P3268
END:VEVENT
BEGIN:VEVENT
UID:21399@unige.ch
DTSTAMP:20250520T060000Z
DTSTART:20250520T060000Z
DTEND:20250520T160000Z
SUMMARY:Exposition
DESCRIPTION:Retrouvez l'exposition dans le hall d'Uni Mail du 28 avril au 4 mai !
LOCATION:Uni Mail | Verrière (3e étage) et devant salle MS180 (sous-sol) - Bd du Pont-d'Arve 40, 1205 Genève
URL:https://vie-de-campus.unige.ch/catalogue/P3268
END:VEVENT
BEGIN:VEVENT
UID:21400@unige.ch
DTSTAMP:20250521T060000Z
DTSTART:20250521T060000Z
DTEND:20250521T160000Z
SUMMARY:Exposition
DESCRIPTION:Retrouvez l'exposition dans le hall d'Uni Mail du 28 avril au 4 mai !
LOCATION:Uni Mail | Verrière (3e étage) et devant salle MS180 (sous-sol) - Bd du Pont-d'Arve 40, 1205 Genève
URL:https://vie-de-campus.unige.ch/catalogue/P3268
END:VEVENT
END:VCALENDAR
