BEGIN:VCALENDAR
VERSION:2.0
PRODID:-//hacksw/handcal//NONSGML v1.0//EN
BEGIN:VEVENT
UID:21933@unige.ch
DTSTAMP:20260414T101500Z
DTSTART:20260414T101500Z
DTEND:20260414T120000Z
SUMMARY:Cours de vélo I
DESCRIPTION:Nous recommandons de venir avec un vélo en parfait état de fonctionnement (si vous en possédez un), ainsi qu’un casque, des vêtements adaptés à la météo, des chaussures appropriées (type baskets) et de quoi vous hydrater.Si vous ne disposez pas de vélo ou n’avez jamais circulé en ville, merci de nous le signaler dans le formulaire que vous recevrez quelques jours avant la formation.Communication en français et en anglais.&nbsp;
LOCATION:Uni Mail | Esplanade - Boulevard du Pont-d'Arve 40, 1205 Genève
GEO:46.195339;6.140546
URL:https://vie-de-campus.unige.ch/catalogue/P3298
END:VEVENT
END:VCALENDAR
