BEGIN:VCALENDAR
VERSION:2.0
PRODID:-//hacksw/handcal//NONSGML v1.0//EN
BEGIN:VEVENT
UID:21981@unige.ch
DTSTAMP:20250606T080000Z
DTSTART:20250606T080000Z
DTEND:20250606T100000Z
SUMMARY:Permanence carrière
DESCRIPTION:
LOCATION:Point Vie de Campus - 1er étage d'Uni Dufour, 1204 Genève
GEO:46.199735;6.142192
URL:https://vie-de-campus.unige.ch/catalogue/P3322
END:VEVENT
BEGIN:VEVENT
UID:21982@unige.ch
DTSTAMP:20250613T080000Z
DTSTART:20250613T080000Z
DTEND:20250613T100000Z
SUMMARY:Permanence carrière
DESCRIPTION:
LOCATION:Point Vie de Campus - 1er étage d'Uni Dufour, 1204 Genève
GEO:46.199735;6.142192
URL:https://vie-de-campus.unige.ch/catalogue/P3322
END:VEVENT
BEGIN:VEVENT
UID:21984@unige.ch
DTSTAMP:20250620T080000Z
DTSTART:20250620T080000Z
DTEND:20250620T100000Z
SUMMARY:Permanence carrière
DESCRIPTION:
LOCATION:Point Vie de Campus - 1er étage d'Uni Dufour, 1204 Genève
GEO:46.199735;6.142192
URL:https://vie-de-campus.unige.ch/catalogue/P3322
END:VEVENT
BEGIN:VEVENT
UID:21983@unige.ch
DTSTAMP:20250627T080000Z
DTSTART:20250627T080000Z
DTEND:20250627T100000Z
SUMMARY:Permanence carrière
DESCRIPTION:
LOCATION:Point Vie de Campus - 1er étage d'Uni Dufour, 1204 Genève
GEO:46.199735;6.142192
URL:https://vie-de-campus.unige.ch/catalogue/P3322
END:VEVENT
END:VCALENDAR
