BEGIN:VCALENDAR
VERSION:2.0
PRODID:-//hacksw/handcal//NONSGML v1.0//EN
BEGIN:VEVENT
UID:22036@unige.ch
DTSTAMP:20251108T090000Z
DTSTART:20251108T090000Z
DTEND:20251108T170000Z
SUMMARY:Super 8
DESCRIPTION:Matériel Matériel fourni par groupe: 1 film, 1 caméra et la chimie pour le développementMatériel à apporter: un casque audio et une clé USB Inscriptions l’atelier est donné dès 6 inscriptions
LOCATION:MédiasUnis - Rue De-Candolle 18, 1205 Genève
GEO:46.198087;6.14499
URL:https://vie-de-campus.unige.ch/catalogue/P3336
END:VEVENT
BEGIN:VEVENT
UID:22035@unige.ch
DTSTAMP:20251109T090000Z
DTSTART:20251109T090000Z
DTEND:20251109T170000Z
SUMMARY:Super 8
DESCRIPTION:Matériel Matériel fourni par groupe: 1 film, 1 caméra et la chimie pour le développementMatériel à apporter: un casque audio et une clé USB Inscriptions l’atelier est donné dès 6 inscriptions
LOCATION:MédiasUnis - Rue De-Candolle 18, 1205 Genève
GEO:46.198087;6.14499
URL:https://vie-de-campus.unige.ch/catalogue/P3336
END:VEVENT
BEGIN:VEVENT
UID:22034@unige.ch
DTSTAMP:20251115T090000Z
DTSTART:20251115T090000Z
DTEND:20251115T170000Z
SUMMARY:Super 8
DESCRIPTION:Matériel Matériel fourni par groupe: 1 film, 1 caméra et la chimie pour le développementMatériel à apporter: un casque audio et une clé USB Inscriptions l’atelier est donné dès 6 inscriptions
LOCATION:Cité U | Labo Photo - Avenue de Miremont 46, 1206 Genève
GEO:46.186864;6.159022
URL:https://vie-de-campus.unige.ch/catalogue/P3336
END:VEVENT
BEGIN:VEVENT
UID:22033@unige.ch
DTSTAMP:20251116T090000Z
DTSTART:20251116T090000Z
DTEND:20251116T170000Z
SUMMARY:Super 8
DESCRIPTION:Matériel Matériel fourni par groupe: 1 film, 1 caméra et la chimie pour le développementMatériel à apporter: un casque audio et une clé USB Inscriptions l’atelier est donné dès 6 inscriptions
LOCATION:MédiasUnis - Rue De-Candolle 18, 1205 Genève
GEO:46.198087;6.14499
URL:https://vie-de-campus.unige.ch/catalogue/P3336
END:VEVENT
END:VCALENDAR
