BEGIN:VCALENDAR
VERSION:2.0
PRODID:-//hacksw/handcal//NONSGML v1.0//EN
BEGIN:VEVENT
UID:22410@unige.ch
DTSTAMP:20251006T163000Z
DTSTART:20251006T163000Z
DTEND:20251006T174500Z
SUMMARY:Cosmétiques durables
DESCRIPTION:Matériel Matériel fourni et compris dans le prix: ingrédients, accessoires et contenants. Langue L’atelier se déroule uniquement en français. Un niveau B1 est souhaitable pour suivre confortablement les consignes.
LOCATION:Espace de quartier des Eaux-Vives - Rue de Montchoisy 46 , 1207  Genève
URL:https://vie-de-campus.unige.ch/catalogue/P3364
END:VEVENT
BEGIN:VEVENT
UID:22411@unige.ch
DTSTAMP:20251013T163000Z
DTSTART:20251013T163000Z
DTEND:20251013T174500Z
SUMMARY:Cosmétiques durables
DESCRIPTION:Matériel Matériel fourni et compris dans le prix: ingrédients, accessoires et contenants. Langue L’atelier se déroule uniquement en français. Un niveau B1 est souhaitable pour suivre confortablement les consignes.
LOCATION:Espace de quartier des Eaux-Vives - Rue de Montchoisy 46 , 1207  Genève
URL:https://vie-de-campus.unige.ch/catalogue/P3364
END:VEVENT
BEGIN:VEVENT
UID:22412@unige.ch
DTSTAMP:20251020T163000Z
DTSTART:20251020T163000Z
DTEND:20251020T174500Z
SUMMARY:Cosmétiques durables
DESCRIPTION:Matériel Matériel fourni et compris dans le prix: ingrédients, accessoires et contenants. Langue L’atelier se déroule uniquement en français. Un niveau B1 est souhaitable pour suivre confortablement les consignes.
LOCATION:Espace de quartier des Eaux-Vives - Rue de Montchoisy 46 , 1207  Genève
URL:https://vie-de-campus.unige.ch/catalogue/P3364
END:VEVENT
BEGIN:VEVENT
UID:22413@unige.ch
DTSTAMP:20251027T173000Z
DTSTART:20251027T173000Z
DTEND:20251027T184500Z
SUMMARY:Cosmétiques durables
DESCRIPTION:Matériel Matériel fourni et compris dans le prix: ingrédients, accessoires et contenants. Langue L’atelier se déroule uniquement en français. Un niveau B1 est souhaitable pour suivre confortablement les consignes.
LOCATION:Espace de quartier des Eaux-Vives - Rue de Montchoisy 46 , 1207  Genève
URL:https://vie-de-campus.unige.ch/catalogue/P3364
END:VEVENT
BEGIN:VEVENT
UID:22414@unige.ch
DTSTAMP:20251103T173000Z
DTSTART:20251103T173000Z
DTEND:20251103T184500Z
SUMMARY:Cosmétiques durables
DESCRIPTION:Matériel Matériel fourni et compris dans le prix: ingrédients, accessoires et contenants. Langue L’atelier se déroule uniquement en français. Un niveau B1 est souhaitable pour suivre confortablement les consignes.
LOCATION:Espace de quartier des Eaux-Vives - Rue de Montchoisy 46 , 1207  Genève
URL:https://vie-de-campus.unige.ch/catalogue/P3364
END:VEVENT
END:VCALENDAR
