BEGIN:VCALENDAR
VERSION:2.0
PRODID:-//hacksw/handcal//NONSGML v1.0//EN
BEGIN:VEVENT
UID:23638@unige.ch
DTSTAMP:20251105T091500Z
DTSTART:20251105T091500Z
DTEND:20251105T110000Z
SUMMARY:Reconnexion - IRL (in real life) 1
DESCRIPTION:
LOCATION:Uni Dufour I salle 408 - Rue du Général-Dufour 24, 1204 Genève
URL:https://vie-de-campus.unige.ch/catalogue/P3418
END:VEVENT
END:VCALENDAR
