BEGIN:VCALENDAR
VERSION:2.0
PRODID:-//hacksw/handcal//NONSGML v1.0//EN
BEGIN:VEVENT
UID:23637@unige.ch
DTSTAMP:20251209T091500Z
DTSTART:20251209T091500Z
DTEND:20251209T110000Z
SUMMARY:Reconnexion - IRL 2
DESCRIPTION:Durant cet atelier, nous explorerons nos façons de communiquer et les techniques pour les améliorer.
LOCATION:Uni Mail | M3393 - Boulevard du Pont d’Arve 40, 1205 Genève
URL:https://vie-de-campus.unige.ch/catalogue/P3439
END:VEVENT
END:VCALENDAR
