BEGIN:VCALENDAR
VERSION:2.0
PRODID:-//hacksw/handcal//NONSGML v1.0//EN
BEGIN:VEVENT
UID:24074@unige.ch
DTSTAMP:20260421T081500Z
DTSTART:20260421T081500Z
DTEND:20260421T100000Z
SUMMARY:Reconnexion - IRL 6
DESCRIPTION:
LOCATION:Uni Dufour | U364 - Rue du Général-Dufour 24, 1204 Genève
URL:https://vie-de-campus.unige.ch/catalogue/P3493
END:VEVENT
END:VCALENDAR
