BEGIN:VCALENDAR
VERSION:2.0
PRODID:-//hacksw/handcal//NONSGML v1.0//EN
BEGIN:VEVENT
UID:24075@unige.ch
DTSTAMP:20260519T081500Z
DTSTART:20260519T081500Z
DTEND:20260519T100000Z
SUMMARY:Reconnexion - IRL 7
DESCRIPTION:
LOCATION:Uni Dufour I salle 408 - Rue du Général-Dufour 24, 1204 Genève
URL:https://vie-de-campus.unige.ch/catalogue/P3494
END:VEVENT
END:VCALENDAR
