BEGIN:VCALENDAR
VERSION:2.0
PRODID:-//hacksw/handcal//NONSGML v1.0//EN
BEGIN:VEVENT
UID:24301@unige.ch
DTSTAMP:20260610T081500Z
DTSTART:20260610T081500Z
DTEND:20260610T100000Z
SUMMARY:Reconnexion - IRL 8
DESCRIPTION:
LOCATION:Uni Dufour I salle 408 - Rue du Général-Dufour 24, 1204 Genève
URL:https://vie-de-campus.unige.ch/catalogue/P3504
END:VEVENT
END:VCALENDAR
