BEGIN:VCALENDAR
VERSION:2.0
PRODID:-//hacksw/handcal//NONSGML v1.0//EN
BEGIN:VEVENT
UID:24400@unige.ch
DTSTAMP:20251027T193000Z
DTSTART:20251027T193000Z
DTEND:20251027T213000Z
SUMMARY:Jeux d'été
DESCRIPTION:
LOCATION:Les Cinémas du Grütli - Maison des Arts du Grütli, 1204 Genève
URL:https://vie-de-campus.unige.ch/catalogue/P3519
END:VEVENT
END:VCALENDAR
