BEGIN:VCALENDAR
VERSION:2.0
PRODID:-//hacksw/handcal//NONSGML v1.0//EN
BEGIN:VEVENT
UID:24401@unige.ch
DTSTAMP:20251110T193000Z
DTSTART:20251110T193000Z
DTEND:20251110T220000Z
SUMMARY:West Side Story
DESCRIPTION:
LOCATION:Les Cinémas du Grütli - Maison des Arts du Grütli, 1204 Genève
URL:https://vie-de-campus.unige.ch/catalogue/P3520
END:VEVENT
END:VCALENDAR
