BEGIN:VCALENDAR
VERSION:2.0
PRODID:-//hacksw/handcal//NONSGML v1.0//EN
BEGIN:VEVENT
UID:24817@unige.ch
DTSTAMP:20250922T141500Z
DTSTART:20250922T141500Z
DTEND:20250922T154500Z
SUMMARY:Deutsch A1
DESCRIPTION:
LOCATION: - , 
URL:https://vie-de-campus.unige.ch/catalogue/P3551
END:VEVENT
BEGIN:VEVENT
UID:24829@unige.ch
DTSTAMP:20250924T141500Z
DTSTART:20250924T141500Z
DTEND:20250924T154500Z
SUMMARY:Deutsch A1
DESCRIPTION:
LOCATION: - , 
URL:https://vie-de-campus.unige.ch/catalogue/P3551
END:VEVENT
BEGIN:VEVENT
UID:24818@unige.ch
DTSTAMP:20250929T141500Z
DTSTART:20250929T141500Z
DTEND:20250929T154500Z
SUMMARY:Deutsch A1
DESCRIPTION:
LOCATION: - , 
URL:https://vie-de-campus.unige.ch/catalogue/P3551
END:VEVENT
BEGIN:VEVENT
UID:24830@unige.ch
DTSTAMP:20251001T141500Z
DTSTART:20251001T141500Z
DTEND:20251001T154500Z
SUMMARY:Deutsch A1
DESCRIPTION:
LOCATION: - , 
URL:https://vie-de-campus.unige.ch/catalogue/P3551
END:VEVENT
BEGIN:VEVENT
UID:24819@unige.ch
DTSTAMP:20251006T141500Z
DTSTART:20251006T141500Z
DTEND:20251006T154500Z
SUMMARY:Deutsch A1
DESCRIPTION:
LOCATION: - , 
URL:https://vie-de-campus.unige.ch/catalogue/P3551
END:VEVENT
BEGIN:VEVENT
UID:24831@unige.ch
DTSTAMP:20251008T141500Z
DTSTART:20251008T141500Z
DTEND:20251008T154500Z
SUMMARY:Deutsch A1
DESCRIPTION:
LOCATION: - , 
URL:https://vie-de-campus.unige.ch/catalogue/P3551
END:VEVENT
BEGIN:VEVENT
UID:24820@unige.ch
DTSTAMP:20251013T141500Z
DTSTART:20251013T141500Z
DTEND:20251013T154500Z
SUMMARY:Deutsch A1
DESCRIPTION:
LOCATION: - , 
URL:https://vie-de-campus.unige.ch/catalogue/P3551
END:VEVENT
BEGIN:VEVENT
UID:24832@unige.ch
DTSTAMP:20251015T141500Z
DTSTART:20251015T141500Z
DTEND:20251015T154500Z
SUMMARY:Deutsch A1
DESCRIPTION:
LOCATION: - , 
URL:https://vie-de-campus.unige.ch/catalogue/P3551
END:VEVENT
BEGIN:VEVENT
UID:24821@unige.ch
DTSTAMP:20251020T141500Z
DTSTART:20251020T141500Z
DTEND:20251020T154500Z
SUMMARY:Deutsch A1
DESCRIPTION:
LOCATION: - , 
URL:https://vie-de-campus.unige.ch/catalogue/P3551
END:VEVENT
BEGIN:VEVENT
UID:24833@unige.ch
DTSTAMP:20251022T141500Z
DTSTART:20251022T141500Z
DTEND:20251022T154500Z
SUMMARY:Deutsch A1
DESCRIPTION:
LOCATION: - , 
URL:https://vie-de-campus.unige.ch/catalogue/P3551
END:VEVENT
BEGIN:VEVENT
UID:24822@unige.ch
DTSTAMP:20251027T151500Z
DTSTART:20251027T151500Z
DTEND:20251027T164500Z
SUMMARY:Deutsch A1
DESCRIPTION:
LOCATION: - , 
URL:https://vie-de-campus.unige.ch/catalogue/P3551
END:VEVENT
BEGIN:VEVENT
UID:24834@unige.ch
DTSTAMP:20251029T151500Z
DTSTART:20251029T151500Z
DTEND:20251029T164500Z
SUMMARY:Deutsch A1
DESCRIPTION:
LOCATION: - , 
URL:https://vie-de-campus.unige.ch/catalogue/P3551
END:VEVENT
BEGIN:VEVENT
UID:24823@unige.ch
DTSTAMP:20251110T151500Z
DTSTART:20251110T151500Z
DTEND:20251110T164500Z
SUMMARY:Deutsch A1
DESCRIPTION:
LOCATION: - , 
URL:https://vie-de-campus.unige.ch/catalogue/P3551
END:VEVENT
BEGIN:VEVENT
UID:24836@unige.ch
DTSTAMP:20251112T151500Z
DTSTART:20251112T151500Z
DTEND:20251112T164500Z
SUMMARY:Deutsch A1
DESCRIPTION:
LOCATION: - , 
URL:https://vie-de-campus.unige.ch/catalogue/P3551
END:VEVENT
BEGIN:VEVENT
UID:24824@unige.ch
DTSTAMP:20251117T151500Z
DTSTART:20251117T151500Z
DTEND:20251117T164500Z
SUMMARY:Deutsch A1
DESCRIPTION:
LOCATION: - , 
URL:https://vie-de-campus.unige.ch/catalogue/P3551
END:VEVENT
BEGIN:VEVENT
UID:24837@unige.ch
DTSTAMP:20251119T151500Z
DTSTART:20251119T151500Z
DTEND:20251119T164500Z
SUMMARY:Deutsch A1
DESCRIPTION:
LOCATION: - , 
URL:https://vie-de-campus.unige.ch/catalogue/P3551
END:VEVENT
BEGIN:VEVENT
UID:24825@unige.ch
DTSTAMP:20251124T151500Z
DTSTART:20251124T151500Z
DTEND:20251124T164500Z
SUMMARY:Deutsch A1
DESCRIPTION:
LOCATION: - , 
URL:https://vie-de-campus.unige.ch/catalogue/P3551
END:VEVENT
BEGIN:VEVENT
UID:24838@unige.ch
DTSTAMP:20251126T151500Z
DTSTART:20251126T151500Z
DTEND:20251126T164500Z
SUMMARY:Deutsch A1
DESCRIPTION:
LOCATION: - , 
URL:https://vie-de-campus.unige.ch/catalogue/P3551
END:VEVENT
BEGIN:VEVENT
UID:24826@unige.ch
DTSTAMP:20251201T151500Z
DTSTART:20251201T151500Z
DTEND:20251201T164500Z
SUMMARY:Deutsch A1
DESCRIPTION:
LOCATION: - , 
URL:https://vie-de-campus.unige.ch/catalogue/P3551
END:VEVENT
BEGIN:VEVENT
UID:24839@unige.ch
DTSTAMP:20251203T151500Z
DTSTART:20251203T151500Z
DTEND:20251203T164500Z
SUMMARY:Deutsch A1
DESCRIPTION:
LOCATION: - , 
URL:https://vie-de-campus.unige.ch/catalogue/P3551
END:VEVENT
BEGIN:VEVENT
UID:28073@unige.ch
DTSTAMP:20251208T151500Z
DTSTART:20251208T151500Z
DTEND:20251208T164500Z
SUMMARY:Deutsch A1
DESCRIPTION:
LOCATION: - , 
URL:https://vie-de-campus.unige.ch/catalogue/P3551
END:VEVENT
BEGIN:VEVENT
UID:28071@unige.ch
DTSTAMP:20251210T151500Z
DTSTART:20251210T151500Z
DTEND:20251210T164500Z
SUMMARY:Deutsch A1
DESCRIPTION:
LOCATION: - , 
URL:https://vie-de-campus.unige.ch/catalogue/P3551
END:VEVENT
BEGIN:VEVENT
UID:28074@unige.ch
DTSTAMP:20251215T151500Z
DTSTART:20251215T151500Z
DTEND:20251215T164500Z
SUMMARY:Deutsch A1
DESCRIPTION:
LOCATION: - , 
URL:https://vie-de-campus.unige.ch/catalogue/P3551
END:VEVENT
BEGIN:VEVENT
UID:28072@unige.ch
DTSTAMP:20260303T151500Z
DTSTART:20260303T151500Z
DTEND:20260303T164500Z
SUMMARY:Deutsch A1
DESCRIPTION:
LOCATION: - , 
URL:https://vie-de-campus.unige.ch/catalogue/P3551
END:VEVENT
BEGIN:VEVENT
UID:28086@unige.ch
DTSTAMP:20260305T151500Z
DTSTART:20260305T151500Z
DTEND:20260305T164500Z
SUMMARY:Deutsch A1
DESCRIPTION:
LOCATION: - , 
URL:https://vie-de-campus.unige.ch/catalogue/P3551
END:VEVENT
BEGIN:VEVENT
UID:28075@unige.ch
DTSTAMP:20260310T151500Z
DTSTART:20260310T151500Z
DTEND:20260310T164500Z
SUMMARY:Deutsch A1
DESCRIPTION:
LOCATION: - , 
URL:https://vie-de-campus.unige.ch/catalogue/P3551
END:VEVENT
BEGIN:VEVENT
UID:28087@unige.ch
DTSTAMP:20260312T151500Z
DTSTART:20260312T151500Z
DTEND:20260312T164500Z
SUMMARY:Deutsch A1
DESCRIPTION:
LOCATION: - , 
URL:https://vie-de-campus.unige.ch/catalogue/P3551
END:VEVENT
BEGIN:VEVENT
UID:28076@unige.ch
DTSTAMP:20260317T151500Z
DTSTART:20260317T151500Z
DTEND:20260317T164500Z
SUMMARY:Deutsch A1
DESCRIPTION:
LOCATION: - , 
URL:https://vie-de-campus.unige.ch/catalogue/P3551
END:VEVENT
BEGIN:VEVENT
UID:28088@unige.ch
DTSTAMP:20260319T151500Z
DTSTART:20260319T151500Z
DTEND:20260319T164500Z
SUMMARY:Deutsch A1
DESCRIPTION:
LOCATION: - , 
URL:https://vie-de-campus.unige.ch/catalogue/P3551
END:VEVENT
BEGIN:VEVENT
UID:28077@unige.ch
DTSTAMP:20260324T151500Z
DTSTART:20260324T151500Z
DTEND:20260324T164500Z
SUMMARY:Deutsch A1
DESCRIPTION:
LOCATION: - , 
URL:https://vie-de-campus.unige.ch/catalogue/P3551
END:VEVENT
BEGIN:VEVENT
UID:28089@unige.ch
DTSTAMP:20260326T151500Z
DTSTART:20260326T151500Z
DTEND:20260326T164500Z
SUMMARY:Deutsch A1
DESCRIPTION:
LOCATION: - , 
URL:https://vie-de-campus.unige.ch/catalogue/P3551
END:VEVENT
BEGIN:VEVENT
UID:28078@unige.ch
DTSTAMP:20260331T141500Z
DTSTART:20260331T141500Z
DTEND:20260331T154500Z
SUMMARY:Deutsch A1
DESCRIPTION:
LOCATION: - , 
URL:https://vie-de-campus.unige.ch/catalogue/P3551
END:VEVENT
BEGIN:VEVENT
UID:28090@unige.ch
DTSTAMP:20260402T141500Z
DTSTART:20260402T141500Z
DTEND:20260402T154500Z
SUMMARY:Deutsch A1
DESCRIPTION:
LOCATION: - , 
URL:https://vie-de-campus.unige.ch/catalogue/P3551
END:VEVENT
BEGIN:VEVENT
UID:28080@unige.ch
DTSTAMP:20260414T141500Z
DTSTART:20260414T141500Z
DTEND:20260414T154500Z
SUMMARY:Deutsch A1
DESCRIPTION:
LOCATION: - , 
URL:https://vie-de-campus.unige.ch/catalogue/P3551
END:VEVENT
BEGIN:VEVENT
UID:28092@unige.ch
DTSTAMP:20260416T141500Z
DTSTART:20260416T141500Z
DTEND:20260416T154500Z
SUMMARY:Deutsch A1
DESCRIPTION:
LOCATION: - , 
URL:https://vie-de-campus.unige.ch/catalogue/P3551
END:VEVENT
BEGIN:VEVENT
UID:28081@unige.ch
DTSTAMP:20260421T141500Z
DTSTART:20260421T141500Z
DTEND:20260421T154500Z
SUMMARY:Deutsch A1
DESCRIPTION:
LOCATION: - , 
URL:https://vie-de-campus.unige.ch/catalogue/P3551
END:VEVENT
BEGIN:VEVENT
UID:28093@unige.ch
DTSTAMP:20260423T141500Z
DTSTART:20260423T141500Z
DTEND:20260423T154500Z
SUMMARY:Deutsch A1
DESCRIPTION:
LOCATION: - , 
URL:https://vie-de-campus.unige.ch/catalogue/P3551
END:VEVENT
BEGIN:VEVENT
UID:28082@unige.ch
DTSTAMP:20260428T141500Z
DTSTART:20260428T141500Z
DTEND:20260428T154500Z
SUMMARY:Deutsch A1
DESCRIPTION:
LOCATION: - , 
URL:https://vie-de-campus.unige.ch/catalogue/P3551
END:VEVENT
BEGIN:VEVENT
UID:28094@unige.ch
DTSTAMP:20260430T141500Z
DTSTART:20260430T141500Z
DTEND:20260430T154500Z
SUMMARY:Deutsch A1
DESCRIPTION:
LOCATION: - , 
URL:https://vie-de-campus.unige.ch/catalogue/P3551
END:VEVENT
BEGIN:VEVENT
UID:28083@unige.ch
DTSTAMP:20260505T141500Z
DTSTART:20260505T141500Z
DTEND:20260505T154500Z
SUMMARY:Deutsch A1
DESCRIPTION:
LOCATION: - , 
URL:https://vie-de-campus.unige.ch/catalogue/P3551
END:VEVENT
BEGIN:VEVENT
UID:28095@unige.ch
DTSTAMP:20260507T141500Z
DTSTART:20260507T141500Z
DTEND:20260507T154500Z
SUMMARY:Deutsch A1
DESCRIPTION:
LOCATION: - , 
URL:https://vie-de-campus.unige.ch/catalogue/P3551
END:VEVENT
BEGIN:VEVENT
UID:28084@unige.ch
DTSTAMP:20260512T141500Z
DTSTART:20260512T141500Z
DTEND:20260512T154500Z
SUMMARY:Deutsch A1
DESCRIPTION:
LOCATION: - , 
URL:https://vie-de-campus.unige.ch/catalogue/P3551
END:VEVENT
BEGIN:VEVENT
UID:28096@unige.ch
DTSTAMP:20260514T141500Z
DTSTART:20260514T141500Z
DTEND:20260514T154500Z
SUMMARY:Deutsch A1
DESCRIPTION:
LOCATION: - , 
URL:https://vie-de-campus.unige.ch/catalogue/P3551
END:VEVENT
BEGIN:VEVENT
UID:28085@unige.ch
DTSTAMP:20260519T141500Z
DTSTART:20260519T141500Z
DTEND:20260519T154500Z
SUMMARY:Deutsch A1
DESCRIPTION:
LOCATION: - , 
URL:https://vie-de-campus.unige.ch/catalogue/P3551
END:VEVENT
BEGIN:VEVENT
UID:28097@unige.ch
DTSTAMP:20260521T141500Z
DTSTART:20260521T141500Z
DTEND:20260521T154500Z
SUMMARY:Deutsch A1
DESCRIPTION:
LOCATION: - , 
URL:https://vie-de-campus.unige.ch/catalogue/P3551
END:VEVENT
END:VCALENDAR
