BEGIN:VCALENDAR
VERSION:2.0
PRODID:-//hacksw/handcal//NONSGML v1.0//EN
BEGIN:VEVENT
UID:25198@unige.ch
DTSTAMP:20250923T161500Z
DTSTART:20250923T161500Z
DTEND:20250923T174500Z
SUMMARY:Deutsch A2
DESCRIPTION:
LOCATION: - , 
URL:https://vie-de-campus.unige.ch/catalogue/P3554
END:VEVENT
BEGIN:VEVENT
UID:25211@unige.ch
DTSTAMP:20250925T161500Z
DTSTART:20250925T161500Z
DTEND:20250925T174500Z
SUMMARY:Deutsch A2
DESCRIPTION:
LOCATION: - , 
URL:https://vie-de-campus.unige.ch/catalogue/P3554
END:VEVENT
BEGIN:VEVENT
UID:25199@unige.ch
DTSTAMP:20250930T161500Z
DTSTART:20250930T161500Z
DTEND:20250930T174500Z
SUMMARY:Deutsch A2
DESCRIPTION:
LOCATION: - , 
URL:https://vie-de-campus.unige.ch/catalogue/P3554
END:VEVENT
BEGIN:VEVENT
UID:25212@unige.ch
DTSTAMP:20251002T161500Z
DTSTART:20251002T161500Z
DTEND:20251002T174500Z
SUMMARY:Deutsch A2
DESCRIPTION:
LOCATION: - , 
URL:https://vie-de-campus.unige.ch/catalogue/P3554
END:VEVENT
BEGIN:VEVENT
UID:25200@unige.ch
DTSTAMP:20251007T161500Z
DTSTART:20251007T161500Z
DTEND:20251007T174500Z
SUMMARY:Deutsch A2
DESCRIPTION:
LOCATION: - , 
URL:https://vie-de-campus.unige.ch/catalogue/P3554
END:VEVENT
BEGIN:VEVENT
UID:25213@unige.ch
DTSTAMP:20251009T161500Z
DTSTART:20251009T161500Z
DTEND:20251009T174500Z
SUMMARY:Deutsch A2
DESCRIPTION:
LOCATION: - , 
URL:https://vie-de-campus.unige.ch/catalogue/P3554
END:VEVENT
BEGIN:VEVENT
UID:25201@unige.ch
DTSTAMP:20251014T161500Z
DTSTART:20251014T161500Z
DTEND:20251014T174500Z
SUMMARY:Deutsch A2
DESCRIPTION:
LOCATION: - , 
URL:https://vie-de-campus.unige.ch/catalogue/P3554
END:VEVENT
BEGIN:VEVENT
UID:25214@unige.ch
DTSTAMP:20251016T161500Z
DTSTART:20251016T161500Z
DTEND:20251016T174500Z
SUMMARY:Deutsch A2
DESCRIPTION:
LOCATION: - , 
URL:https://vie-de-campus.unige.ch/catalogue/P3554
END:VEVENT
BEGIN:VEVENT
UID:25202@unige.ch
DTSTAMP:20251021T161500Z
DTSTART:20251021T161500Z
DTEND:20251021T174500Z
SUMMARY:Deutsch A2
DESCRIPTION:
LOCATION: - , 
URL:https://vie-de-campus.unige.ch/catalogue/P3554
END:VEVENT
BEGIN:VEVENT
UID:25215@unige.ch
DTSTAMP:20251023T161500Z
DTSTART:20251023T161500Z
DTEND:20251023T174500Z
SUMMARY:Deutsch A2
DESCRIPTION:
LOCATION: - , 
URL:https://vie-de-campus.unige.ch/catalogue/P3554
END:VEVENT
BEGIN:VEVENT
UID:25203@unige.ch
DTSTAMP:20251028T171500Z
DTSTART:20251028T171500Z
DTEND:20251028T184500Z
SUMMARY:Deutsch A2
DESCRIPTION:
LOCATION: - , 
URL:https://vie-de-campus.unige.ch/catalogue/P3554
END:VEVENT
BEGIN:VEVENT
UID:25216@unige.ch
DTSTAMP:20251030T171500Z
DTSTART:20251030T171500Z
DTEND:20251030T184500Z
SUMMARY:Deutsch A2
DESCRIPTION:
LOCATION: - , 
URL:https://vie-de-campus.unige.ch/catalogue/P3554
END:VEVENT
BEGIN:VEVENT
UID:25205@unige.ch
DTSTAMP:20251111T171500Z
DTSTART:20251111T171500Z
DTEND:20251111T184500Z
SUMMARY:Deutsch A2
DESCRIPTION:
LOCATION: - , 
URL:https://vie-de-campus.unige.ch/catalogue/P3554
END:VEVENT
BEGIN:VEVENT
UID:25218@unige.ch
DTSTAMP:20251113T171500Z
DTSTART:20251113T171500Z
DTEND:20251113T184500Z
SUMMARY:Deutsch A2
DESCRIPTION:
LOCATION: - , 
URL:https://vie-de-campus.unige.ch/catalogue/P3554
END:VEVENT
BEGIN:VEVENT
UID:25206@unige.ch
DTSTAMP:20251118T171500Z
DTSTART:20251118T171500Z
DTEND:20251118T184500Z
SUMMARY:Deutsch A2
DESCRIPTION:
LOCATION: - , 
URL:https://vie-de-campus.unige.ch/catalogue/P3554
END:VEVENT
BEGIN:VEVENT
UID:25219@unige.ch
DTSTAMP:20251120T171500Z
DTSTART:20251120T171500Z
DTEND:20251120T184500Z
SUMMARY:Deutsch A2
DESCRIPTION:
LOCATION: - , 
URL:https://vie-de-campus.unige.ch/catalogue/P3554
END:VEVENT
BEGIN:VEVENT
UID:25207@unige.ch
DTSTAMP:20251125T171500Z
DTSTART:20251125T171500Z
DTEND:20251125T184500Z
SUMMARY:Deutsch A2
DESCRIPTION:
LOCATION: - , 
URL:https://vie-de-campus.unige.ch/catalogue/P3554
END:VEVENT
BEGIN:VEVENT
UID:25220@unige.ch
DTSTAMP:20251127T171500Z
DTSTART:20251127T171500Z
DTEND:20251127T184500Z
SUMMARY:Deutsch A2
DESCRIPTION:
LOCATION: - , 
URL:https://vie-de-campus.unige.ch/catalogue/P3554
END:VEVENT
BEGIN:VEVENT
UID:25208@unige.ch
DTSTAMP:20251202T171500Z
DTSTART:20251202T171500Z
DTEND:20251202T184500Z
SUMMARY:Deutsch A2
DESCRIPTION:
LOCATION: - , 
URL:https://vie-de-campus.unige.ch/catalogue/P3554
END:VEVENT
BEGIN:VEVENT
UID:25221@unige.ch
DTSTAMP:20251204T171500Z
DTSTART:20251204T171500Z
DTEND:20251204T184500Z
SUMMARY:Deutsch A2
DESCRIPTION:
LOCATION: - , 
URL:https://vie-de-campus.unige.ch/catalogue/P3554
END:VEVENT
BEGIN:VEVENT
UID:25209@unige.ch
DTSTAMP:20251209T171500Z
DTSTART:20251209T171500Z
DTEND:20251209T184500Z
SUMMARY:Deutsch A2
DESCRIPTION:
LOCATION: - , 
URL:https://vie-de-campus.unige.ch/catalogue/P3554
END:VEVENT
BEGIN:VEVENT
UID:25222@unige.ch
DTSTAMP:20251211T171500Z
DTSTART:20251211T171500Z
DTEND:20251211T184500Z
SUMMARY:Deutsch A2
DESCRIPTION:
LOCATION: - , 
URL:https://vie-de-campus.unige.ch/catalogue/P3554
END:VEVENT
BEGIN:VEVENT
UID:25225@unige.ch
DTSTAMP:20260303T171500Z
DTSTART:20260303T171500Z
DTEND:20260303T184500Z
SUMMARY:Deutsch A2
DESCRIPTION:
LOCATION: - , 
URL:https://vie-de-campus.unige.ch/catalogue/P3554
END:VEVENT
BEGIN:VEVENT
UID:25237@unige.ch
DTSTAMP:20260305T171500Z
DTSTART:20260305T171500Z
DTEND:20260305T184500Z
SUMMARY:Deutsch A2
DESCRIPTION:
LOCATION: - , 
URL:https://vie-de-campus.unige.ch/catalogue/P3554
END:VEVENT
BEGIN:VEVENT
UID:25226@unige.ch
DTSTAMP:20260310T171500Z
DTSTART:20260310T171500Z
DTEND:20260310T184500Z
SUMMARY:Deutsch A2
DESCRIPTION:
LOCATION: - , 
URL:https://vie-de-campus.unige.ch/catalogue/P3554
END:VEVENT
BEGIN:VEVENT
UID:25238@unige.ch
DTSTAMP:20260312T171500Z
DTSTART:20260312T171500Z
DTEND:20260312T184500Z
SUMMARY:Deutsch A2
DESCRIPTION:
LOCATION: - , 
URL:https://vie-de-campus.unige.ch/catalogue/P3554
END:VEVENT
BEGIN:VEVENT
UID:25227@unige.ch
DTSTAMP:20260317T171500Z
DTSTART:20260317T171500Z
DTEND:20260317T184500Z
SUMMARY:Deutsch A2
DESCRIPTION:
LOCATION: - , 
URL:https://vie-de-campus.unige.ch/catalogue/P3554
END:VEVENT
BEGIN:VEVENT
UID:25239@unige.ch
DTSTAMP:20260319T171500Z
DTSTART:20260319T171500Z
DTEND:20260319T184500Z
SUMMARY:Deutsch A2
DESCRIPTION:
LOCATION: - , 
URL:https://vie-de-campus.unige.ch/catalogue/P3554
END:VEVENT
BEGIN:VEVENT
UID:25228@unige.ch
DTSTAMP:20260324T171500Z
DTSTART:20260324T171500Z
DTEND:20260324T184500Z
SUMMARY:Deutsch A2
DESCRIPTION:
LOCATION: - , 
URL:https://vie-de-campus.unige.ch/catalogue/P3554
END:VEVENT
BEGIN:VEVENT
UID:25240@unige.ch
DTSTAMP:20260326T171500Z
DTSTART:20260326T171500Z
DTEND:20260326T184500Z
SUMMARY:Deutsch A2
DESCRIPTION:
LOCATION: - , 
URL:https://vie-de-campus.unige.ch/catalogue/P3554
END:VEVENT
BEGIN:VEVENT
UID:25229@unige.ch
DTSTAMP:20260331T161500Z
DTSTART:20260331T161500Z
DTEND:20260331T174500Z
SUMMARY:Deutsch A2
DESCRIPTION:
LOCATION: - , 
URL:https://vie-de-campus.unige.ch/catalogue/P3554
END:VEVENT
BEGIN:VEVENT
UID:25241@unige.ch
DTSTAMP:20260402T161500Z
DTSTART:20260402T161500Z
DTEND:20260402T174500Z
SUMMARY:Deutsch A2
DESCRIPTION:
LOCATION: - , 
URL:https://vie-de-campus.unige.ch/catalogue/P3554
END:VEVENT
BEGIN:VEVENT
UID:25231@unige.ch
DTSTAMP:20260414T161500Z
DTSTART:20260414T161500Z
DTEND:20260414T174500Z
SUMMARY:Deutsch A2
DESCRIPTION:
LOCATION: - , 
URL:https://vie-de-campus.unige.ch/catalogue/P3554
END:VEVENT
BEGIN:VEVENT
UID:25243@unige.ch
DTSTAMP:20260416T161500Z
DTSTART:20260416T161500Z
DTEND:20260416T174500Z
SUMMARY:Deutsch A2
DESCRIPTION:
LOCATION: - , 
URL:https://vie-de-campus.unige.ch/catalogue/P3554
END:VEVENT
BEGIN:VEVENT
UID:25232@unige.ch
DTSTAMP:20260421T161500Z
DTSTART:20260421T161500Z
DTEND:20260421T174500Z
SUMMARY:Deutsch A2
DESCRIPTION:
LOCATION: - , 
URL:https://vie-de-campus.unige.ch/catalogue/P3554
END:VEVENT
BEGIN:VEVENT
UID:25244@unige.ch
DTSTAMP:20260423T161500Z
DTSTART:20260423T161500Z
DTEND:20260423T174500Z
SUMMARY:Deutsch A2
DESCRIPTION:
LOCATION: - , 
URL:https://vie-de-campus.unige.ch/catalogue/P3554
END:VEVENT
BEGIN:VEVENT
UID:25233@unige.ch
DTSTAMP:20260428T161500Z
DTSTART:20260428T161500Z
DTEND:20260428T174500Z
SUMMARY:Deutsch A2
DESCRIPTION:
LOCATION: - , 
URL:https://vie-de-campus.unige.ch/catalogue/P3554
END:VEVENT
BEGIN:VEVENT
UID:25245@unige.ch
DTSTAMP:20260430T161500Z
DTSTART:20260430T161500Z
DTEND:20260430T174500Z
SUMMARY:Deutsch A2
DESCRIPTION:
LOCATION: - , 
URL:https://vie-de-campus.unige.ch/catalogue/P3554
END:VEVENT
BEGIN:VEVENT
UID:25234@unige.ch
DTSTAMP:20260505T161500Z
DTSTART:20260505T161500Z
DTEND:20260505T174500Z
SUMMARY:Deutsch A2
DESCRIPTION:
LOCATION: - , 
URL:https://vie-de-campus.unige.ch/catalogue/P3554
END:VEVENT
BEGIN:VEVENT
UID:25246@unige.ch
DTSTAMP:20260507T161500Z
DTSTART:20260507T161500Z
DTEND:20260507T174500Z
SUMMARY:Deutsch A2
DESCRIPTION:
LOCATION: - , 
URL:https://vie-de-campus.unige.ch/catalogue/P3554
END:VEVENT
BEGIN:VEVENT
UID:25235@unige.ch
DTSTAMP:20260512T161500Z
DTSTART:20260512T161500Z
DTEND:20260512T174500Z
SUMMARY:Deutsch A2
DESCRIPTION:
LOCATION: - , 
URL:https://vie-de-campus.unige.ch/catalogue/P3554
END:VEVENT
BEGIN:VEVENT
UID:25247@unige.ch
DTSTAMP:20260514T161500Z
DTSTART:20260514T161500Z
DTEND:20260514T174500Z
SUMMARY:Deutsch A2
DESCRIPTION:
LOCATION: - , 
URL:https://vie-de-campus.unige.ch/catalogue/P3554
END:VEVENT
BEGIN:VEVENT
UID:28101@unige.ch
DTSTAMP:20260519T161500Z
DTSTART:20260519T161500Z
DTEND:20260519T174500Z
SUMMARY:Deutsch A2
DESCRIPTION:
LOCATION: - , 
URL:https://vie-de-campus.unige.ch/catalogue/P3554
END:VEVENT
BEGIN:VEVENT
UID:28099@unige.ch
DTSTAMP:20260521T161500Z
DTSTART:20260521T161500Z
DTEND:20260521T174500Z
SUMMARY:Deutsch A2
DESCRIPTION:
LOCATION: - , 
URL:https://vie-de-campus.unige.ch/catalogue/P3554
END:VEVENT
END:VCALENDAR
