BEGIN:VCALENDAR
VERSION:2.0
PRODID:-//hacksw/handcal//NONSGML v1.0//EN
BEGIN:VEVENT
UID:26537@unige.ch
DTSTAMP:20250925T121500Z
DTSTART:20250925T121500Z
DTEND:20250925T144500Z
SUMMARY:Deutsch für angehende Lehrpersonen – Sprachkurs FEP B2
DESCRIPTION:Ce cours est réservé aux candidat-es à la FEP, ainsi qu'aux candidat-es à un poste de maître-sse généraliste titulaire d’un diplôme d’enseignement primaire HEP. ﻿L'Université peut financer vos cours de langue &gt;&gt;
LOCATION: - , 
URL:https://vie-de-campus.unige.ch/catalogue/P3565
END:VEVENT
BEGIN:VEVENT
UID:26538@unige.ch
DTSTAMP:20251002T121500Z
DTSTART:20251002T121500Z
DTEND:20251002T144500Z
SUMMARY:Deutsch für angehende Lehrpersonen – Sprachkurs FEP B2
DESCRIPTION:Ce cours est réservé aux candidat-es à la FEP, ainsi qu'aux candidat-es à un poste de maître-sse généraliste titulaire d’un diplôme d’enseignement primaire HEP. ﻿L'Université peut financer vos cours de langue &gt;&gt;
LOCATION: - , 
URL:https://vie-de-campus.unige.ch/catalogue/P3565
END:VEVENT
BEGIN:VEVENT
UID:26539@unige.ch
DTSTAMP:20251009T121500Z
DTSTART:20251009T121500Z
DTEND:20251009T144500Z
SUMMARY:Deutsch für angehende Lehrpersonen – Sprachkurs FEP B2
DESCRIPTION:Ce cours est réservé aux candidat-es à la FEP, ainsi qu'aux candidat-es à un poste de maître-sse généraliste titulaire d’un diplôme d’enseignement primaire HEP. ﻿L'Université peut financer vos cours de langue &gt;&gt;
LOCATION: - , 
URL:https://vie-de-campus.unige.ch/catalogue/P3565
END:VEVENT
BEGIN:VEVENT
UID:26540@unige.ch
DTSTAMP:20251016T121500Z
DTSTART:20251016T121500Z
DTEND:20251016T144500Z
SUMMARY:Deutsch für angehende Lehrpersonen – Sprachkurs FEP B2
DESCRIPTION:Ce cours est réservé aux candidat-es à la FEP, ainsi qu'aux candidat-es à un poste de maître-sse généraliste titulaire d’un diplôme d’enseignement primaire HEP. ﻿L'Université peut financer vos cours de langue &gt;&gt;
LOCATION: - , 
URL:https://vie-de-campus.unige.ch/catalogue/P3565
END:VEVENT
BEGIN:VEVENT
UID:26541@unige.ch
DTSTAMP:20251023T121500Z
DTSTART:20251023T121500Z
DTEND:20251023T144500Z
SUMMARY:Deutsch für angehende Lehrpersonen – Sprachkurs FEP B2
DESCRIPTION:Ce cours est réservé aux candidat-es à la FEP, ainsi qu'aux candidat-es à un poste de maître-sse généraliste titulaire d’un diplôme d’enseignement primaire HEP. ﻿L'Université peut financer vos cours de langue &gt;&gt;
LOCATION: - , 
URL:https://vie-de-campus.unige.ch/catalogue/P3565
END:VEVENT
BEGIN:VEVENT
UID:26542@unige.ch
DTSTAMP:20251030T131500Z
DTSTART:20251030T131500Z
DTEND:20251030T154500Z
SUMMARY:Deutsch für angehende Lehrpersonen – Sprachkurs FEP B2
DESCRIPTION:Ce cours est réservé aux candidat-es à la FEP, ainsi qu'aux candidat-es à un poste de maître-sse généraliste titulaire d’un diplôme d’enseignement primaire HEP. ﻿L'Université peut financer vos cours de langue &gt;&gt;
LOCATION: - , 
URL:https://vie-de-campus.unige.ch/catalogue/P3565
END:VEVENT
BEGIN:VEVENT
UID:26544@unige.ch
DTSTAMP:20251113T131500Z
DTSTART:20251113T131500Z
DTEND:20251113T154500Z
SUMMARY:Deutsch für angehende Lehrpersonen – Sprachkurs FEP B2
DESCRIPTION:Ce cours est réservé aux candidat-es à la FEP, ainsi qu'aux candidat-es à un poste de maître-sse généraliste titulaire d’un diplôme d’enseignement primaire HEP. ﻿L'Université peut financer vos cours de langue &gt;&gt;
LOCATION: - , 
URL:https://vie-de-campus.unige.ch/catalogue/P3565
END:VEVENT
BEGIN:VEVENT
UID:26545@unige.ch
DTSTAMP:20251120T131500Z
DTSTART:20251120T131500Z
DTEND:20251120T154500Z
SUMMARY:Deutsch für angehende Lehrpersonen – Sprachkurs FEP B2
DESCRIPTION:Ce cours est réservé aux candidat-es à la FEP, ainsi qu'aux candidat-es à un poste de maître-sse généraliste titulaire d’un diplôme d’enseignement primaire HEP. ﻿L'Université peut financer vos cours de langue &gt;&gt;
LOCATION: - , 
URL:https://vie-de-campus.unige.ch/catalogue/P3565
END:VEVENT
BEGIN:VEVENT
UID:26546@unige.ch
DTSTAMP:20251127T131500Z
DTSTART:20251127T131500Z
DTEND:20251127T154500Z
SUMMARY:Deutsch für angehende Lehrpersonen – Sprachkurs FEP B2
DESCRIPTION:Ce cours est réservé aux candidat-es à la FEP, ainsi qu'aux candidat-es à un poste de maître-sse généraliste titulaire d’un diplôme d’enseignement primaire HEP. ﻿L'Université peut financer vos cours de langue &gt;&gt;
LOCATION: - , 
URL:https://vie-de-campus.unige.ch/catalogue/P3565
END:VEVENT
BEGIN:VEVENT
UID:26547@unige.ch
DTSTAMP:20251204T131500Z
DTSTART:20251204T131500Z
DTEND:20251204T154500Z
SUMMARY:Deutsch für angehende Lehrpersonen – Sprachkurs FEP B2
DESCRIPTION:Ce cours est réservé aux candidat-es à la FEP, ainsi qu'aux candidat-es à un poste de maître-sse généraliste titulaire d’un diplôme d’enseignement primaire HEP. ﻿L'Université peut financer vos cours de langue &gt;&gt;
LOCATION: - , 
URL:https://vie-de-campus.unige.ch/catalogue/P3565
END:VEVENT
BEGIN:VEVENT
UID:26548@unige.ch
DTSTAMP:20251211T131500Z
DTSTART:20251211T131500Z
DTEND:20251211T154500Z
SUMMARY:Deutsch für angehende Lehrpersonen – Sprachkurs FEP B2
DESCRIPTION:Ce cours est réservé aux candidat-es à la FEP, ainsi qu'aux candidat-es à un poste de maître-sse généraliste titulaire d’un diplôme d’enseignement primaire HEP. ﻿L'Université peut financer vos cours de langue &gt;&gt;
LOCATION: - , 
URL:https://vie-de-campus.unige.ch/catalogue/P3565
END:VEVENT
BEGIN:VEVENT
UID:26549@unige.ch
DTSTAMP:20260108T131500Z
DTSTART:20260108T131500Z
DTEND:20260108T154500Z
SUMMARY:Deutsch für angehende Lehrpersonen – Sprachkurs FEP B2
DESCRIPTION:Ce cours est réservé aux candidat-es à la FEP, ainsi qu'aux candidat-es à un poste de maître-sse généraliste titulaire d’un diplôme d’enseignement primaire HEP. ﻿L'Université peut financer vos cours de langue &gt;&gt;
LOCATION: - , 
URL:https://vie-de-campus.unige.ch/catalogue/P3565
END:VEVENT
BEGIN:VEVENT
UID:26550@unige.ch
DTSTAMP:20260115T131500Z
DTSTART:20260115T131500Z
DTEND:20260115T154500Z
SUMMARY:Deutsch für angehende Lehrpersonen – Sprachkurs FEP B2
DESCRIPTION:Ce cours est réservé aux candidat-es à la FEP, ainsi qu'aux candidat-es à un poste de maître-sse généraliste titulaire d’un diplôme d’enseignement primaire HEP. ﻿L'Université peut financer vos cours de langue &gt;&gt;
LOCATION: - , 
URL:https://vie-de-campus.unige.ch/catalogue/P3565
END:VEVENT
BEGIN:VEVENT
UID:26551@unige.ch
DTSTAMP:20260122T131500Z
DTSTART:20260122T131500Z
DTEND:20260122T154500Z
SUMMARY:Deutsch für angehende Lehrpersonen – Sprachkurs FEP B2
DESCRIPTION:Ce cours est réservé aux candidat-es à la FEP, ainsi qu'aux candidat-es à un poste de maître-sse généraliste titulaire d’un diplôme d’enseignement primaire HEP. ﻿L'Université peut financer vos cours de langue &gt;&gt;
LOCATION: - , 
URL:https://vie-de-campus.unige.ch/catalogue/P3565
END:VEVENT
BEGIN:VEVENT
UID:26552@unige.ch
DTSTAMP:20260129T131500Z
DTSTART:20260129T131500Z
DTEND:20260129T154500Z
SUMMARY:Deutsch für angehende Lehrpersonen – Sprachkurs FEP B2
DESCRIPTION:Ce cours est réservé aux candidat-es à la FEP, ainsi qu'aux candidat-es à un poste de maître-sse généraliste titulaire d’un diplôme d’enseignement primaire HEP. ﻿L'Université peut financer vos cours de langue &gt;&gt;
LOCATION: - , 
URL:https://vie-de-campus.unige.ch/catalogue/P3565
END:VEVENT
BEGIN:VEVENT
UID:26553@unige.ch
DTSTAMP:20260205T131500Z
DTSTART:20260205T131500Z
DTEND:20260205T154500Z
SUMMARY:Deutsch für angehende Lehrpersonen – Sprachkurs FEP B2
DESCRIPTION:Ce cours est réservé aux candidat-es à la FEP, ainsi qu'aux candidat-es à un poste de maître-sse généraliste titulaire d’un diplôme d’enseignement primaire HEP. ﻿L'Université peut financer vos cours de langue &gt;&gt;
LOCATION: - , 
URL:https://vie-de-campus.unige.ch/catalogue/P3565
END:VEVENT
BEGIN:VEVENT
UID:26554@unige.ch
DTSTAMP:20260212T131500Z
DTSTART:20260212T131500Z
DTEND:20260212T154500Z
SUMMARY:Deutsch für angehende Lehrpersonen – Sprachkurs FEP B2
DESCRIPTION:Ce cours est réservé aux candidat-es à la FEP, ainsi qu'aux candidat-es à un poste de maître-sse généraliste titulaire d’un diplôme d’enseignement primaire HEP. ﻿L'Université peut financer vos cours de langue &gt;&gt;
LOCATION: - , 
URL:https://vie-de-campus.unige.ch/catalogue/P3565
END:VEVENT
BEGIN:VEVENT
UID:26555@unige.ch
DTSTAMP:20260219T131500Z
DTSTART:20260219T131500Z
DTEND:20260219T154500Z
SUMMARY:Deutsch für angehende Lehrpersonen – Sprachkurs FEP B2
DESCRIPTION:Ce cours est réservé aux candidat-es à la FEP, ainsi qu'aux candidat-es à un poste de maître-sse généraliste titulaire d’un diplôme d’enseignement primaire HEP. ﻿L'Université peut financer vos cours de langue &gt;&gt;
LOCATION: - , 
URL:https://vie-de-campus.unige.ch/catalogue/P3565
END:VEVENT
BEGIN:VEVENT
UID:26556@unige.ch
DTSTAMP:20260226T131500Z
DTSTART:20260226T131500Z
DTEND:20260226T154500Z
SUMMARY:Deutsch für angehende Lehrpersonen – Sprachkurs FEP B2
DESCRIPTION:Ce cours est réservé aux candidat-es à la FEP, ainsi qu'aux candidat-es à un poste de maître-sse généraliste titulaire d’un diplôme d’enseignement primaire HEP. ﻿L'Université peut financer vos cours de langue &gt;&gt;
LOCATION: - , 
URL:https://vie-de-campus.unige.ch/catalogue/P3565
END:VEVENT
BEGIN:VEVENT
UID:26557@unige.ch
DTSTAMP:20260305T131500Z
DTSTART:20260305T131500Z
DTEND:20260305T154500Z
SUMMARY:Deutsch für angehende Lehrpersonen – Sprachkurs FEP B2
DESCRIPTION:Ce cours est réservé aux candidat-es à la FEP, ainsi qu'aux candidat-es à un poste de maître-sse généraliste titulaire d’un diplôme d’enseignement primaire HEP. ﻿L'Université peut financer vos cours de langue &gt;&gt;
LOCATION: - , 
URL:https://vie-de-campus.unige.ch/catalogue/P3565
END:VEVENT
END:VCALENDAR
