BEGIN:VCALENDAR
VERSION:2.0
PRODID:-//hacksw/handcal//NONSGML v1.0//EN
BEGIN:VEVENT
UID:26121@unige.ch
DTSTAMP:20251008T141500Z
DTSTART:20251008T141500Z
DTEND:20251008T160000Z
SUMMARY:Théâtre-forum
DESCRIPTION:Dates24 septembre de 16h15 à 18h : répétition ouverte facultative1er octobre de 16h15 à 18h : répétition ouverte facultative8 octobre de 16h15 à 18h : représentation du forum Zoheira et la Forêt - séance ouvert au public, entrée libre15 octobre de 16h15 à 18h : atelier forum en construction / recueil22 octobre de 16h15 à 18h : atelier forum en construction / recueil29 octobre de 16h15 à 18h : atelier forum en construction / recueil5 novembre de 16h15 à 18h : atelier forum en construction / débrief et perspectives12 novembre de 14h15 à 17h : représentation du nouveau forum sur l’État de droit
LOCATION:Uni Mail | Salle de spectacle (MS 180) - Boulevard du Pont-d’Arve 40, 1205 Genève
GEO:46.195041;6.139897
URL:https://vie-de-campus.unige.ch/catalogue/P3604
END:VEVENT
BEGIN:VEVENT
UID:26122@unige.ch
DTSTAMP:20251015T141500Z
DTSTART:20251015T141500Z
DTEND:20251015T160000Z
SUMMARY:Théâtre-forum
DESCRIPTION:Dates24 septembre de 16h15 à 18h : répétition ouverte facultative1er octobre de 16h15 à 18h : répétition ouverte facultative8 octobre de 16h15 à 18h : représentation du forum Zoheira et la Forêt - séance ouvert au public, entrée libre15 octobre de 16h15 à 18h : atelier forum en construction / recueil22 octobre de 16h15 à 18h : atelier forum en construction / recueil29 octobre de 16h15 à 18h : atelier forum en construction / recueil5 novembre de 16h15 à 18h : atelier forum en construction / débrief et perspectives12 novembre de 14h15 à 17h : représentation du nouveau forum sur l’État de droit
LOCATION:Uni Mail | Salle de spectacle (MS 180) - Boulevard du Pont-d’Arve 40, 1205 Genève
GEO:46.195041;6.139897
URL:https://vie-de-campus.unige.ch/catalogue/P3604
END:VEVENT
BEGIN:VEVENT
UID:26124@unige.ch
DTSTAMP:20251022T141500Z
DTSTART:20251022T141500Z
DTEND:20251022T160000Z
SUMMARY:Théâtre-forum
DESCRIPTION:Dates24 septembre de 16h15 à 18h : répétition ouverte facultative1er octobre de 16h15 à 18h : répétition ouverte facultative8 octobre de 16h15 à 18h : représentation du forum Zoheira et la Forêt - séance ouvert au public, entrée libre15 octobre de 16h15 à 18h : atelier forum en construction / recueil22 octobre de 16h15 à 18h : atelier forum en construction / recueil29 octobre de 16h15 à 18h : atelier forum en construction / recueil5 novembre de 16h15 à 18h : atelier forum en construction / débrief et perspectives12 novembre de 14h15 à 17h : représentation du nouveau forum sur l’État de droit
LOCATION:Uni Mail | Salle de spectacle (MS 180) - Boulevard du Pont-d’Arve 40, 1205 Genève
GEO:46.195041;6.139897
URL:https://vie-de-campus.unige.ch/catalogue/P3604
END:VEVENT
BEGIN:VEVENT
UID:26125@unige.ch
DTSTAMP:20251029T151500Z
DTSTART:20251029T151500Z
DTEND:20251029T170000Z
SUMMARY:Théâtre-forum
DESCRIPTION:Dates24 septembre de 16h15 à 18h : répétition ouverte facultative1er octobre de 16h15 à 18h : répétition ouverte facultative8 octobre de 16h15 à 18h : représentation du forum Zoheira et la Forêt - séance ouvert au public, entrée libre15 octobre de 16h15 à 18h : atelier forum en construction / recueil22 octobre de 16h15 à 18h : atelier forum en construction / recueil29 octobre de 16h15 à 18h : atelier forum en construction / recueil5 novembre de 16h15 à 18h : atelier forum en construction / débrief et perspectives12 novembre de 14h15 à 17h : représentation du nouveau forum sur l’État de droit
LOCATION:Uni Mail | Salle de spectacle (MS 180) - Boulevard du Pont-d’Arve 40, 1205 Genève
GEO:46.195041;6.139897
URL:https://vie-de-campus.unige.ch/catalogue/P3604
END:VEVENT
BEGIN:VEVENT
UID:26126@unige.ch
DTSTAMP:20251112T131500Z
DTSTART:20251112T131500Z
DTEND:20251112T160000Z
SUMMARY:Théâtre-forum
DESCRIPTION:Dates24 septembre de 16h15 à 18h : répétition ouverte facultative1er octobre de 16h15 à 18h : répétition ouverte facultative8 octobre de 16h15 à 18h : représentation du forum Zoheira et la Forêt - séance ouvert au public, entrée libre15 octobre de 16h15 à 18h : atelier forum en construction / recueil22 octobre de 16h15 à 18h : atelier forum en construction / recueil29 octobre de 16h15 à 18h : atelier forum en construction / recueil5 novembre de 16h15 à 18h : atelier forum en construction / débrief et perspectives12 novembre de 14h15 à 17h : représentation du nouveau forum sur l’État de droit
LOCATION:Uni Mail | Salle de spectacle (MS 180) - Boulevard du Pont-d’Arve 40, 1205 Genève
GEO:46.195041;6.139897
URL:https://vie-de-campus.unige.ch/catalogue/P3604
END:VEVENT
END:VCALENDAR
