BEGIN:VCALENDAR
VERSION:2.0
PRODID:-//hacksw/handcal//NONSGML v1.0//EN
BEGIN:VEVENT
UID:27079@unige.ch
DTSTAMP:20251113T161500Z
DTSTART:20251113T161500Z
DTEND:20251113T174500Z
SUMMARY:Réussir sa 1ère année en droit
DESCRIPTION:Cette séance a été élaborée en concertation avec la faculté. Elle est destinée aux étudiantes et étudiants à la Faculté de droit, mais elle est ouverte aux étudiantes et étudiants d’autres facultés, centres et instituts.
LOCATION:A150 Sciences II - Quai Ernest-Ansermet 30, 1205 Genève
URL:https://vie-de-campus.unige.ch/catalogue/P3626
END:VEVENT
END:VCALENDAR
