BEGIN:VCALENDAR
VERSION:2.0
PRODID:-//hacksw/handcal//NONSGML v1.0//EN
BEGIN:VEVENT
UID:26761@unige.ch
DTSTAMP:20260226T171500Z
DTSTART:20260226T171500Z
DTEND:20260226T184500Z
SUMMARY:Italiano B2
DESCRIPTION:Aides financières &gt;&gt;
LOCATION: - , 
URL:https://vie-de-campus.unige.ch/catalogue/P3690
END:VEVENT
BEGIN:VEVENT
UID:26762@unige.ch
DTSTAMP:20260305T171500Z
DTSTART:20260305T171500Z
DTEND:20260305T184500Z
SUMMARY:Italiano B2
DESCRIPTION:Aides financières &gt;&gt;
LOCATION: - , 
URL:https://vie-de-campus.unige.ch/catalogue/P3690
END:VEVENT
BEGIN:VEVENT
UID:26763@unige.ch
DTSTAMP:20260312T171500Z
DTSTART:20260312T171500Z
DTEND:20260312T184500Z
SUMMARY:Italiano B2
DESCRIPTION:Aides financières &gt;&gt;
LOCATION: - , 
URL:https://vie-de-campus.unige.ch/catalogue/P3690
END:VEVENT
BEGIN:VEVENT
UID:26764@unige.ch
DTSTAMP:20260319T171500Z
DTSTART:20260319T171500Z
DTEND:20260319T184500Z
SUMMARY:Italiano B2
DESCRIPTION:Aides financières &gt;&gt;
LOCATION: - , 
URL:https://vie-de-campus.unige.ch/catalogue/P3690
END:VEVENT
BEGIN:VEVENT
UID:26765@unige.ch
DTSTAMP:20260326T171500Z
DTSTART:20260326T171500Z
DTEND:20260326T184500Z
SUMMARY:Italiano B2
DESCRIPTION:Aides financières &gt;&gt;
LOCATION: - , 
URL:https://vie-de-campus.unige.ch/catalogue/P3690
END:VEVENT
BEGIN:VEVENT
UID:26766@unige.ch
DTSTAMP:20260402T161500Z
DTSTART:20260402T161500Z
DTEND:20260402T174500Z
SUMMARY:Italiano B2
DESCRIPTION:Aides financières &gt;&gt;
LOCATION: - , 
URL:https://vie-de-campus.unige.ch/catalogue/P3690
END:VEVENT
BEGIN:VEVENT
UID:26768@unige.ch
DTSTAMP:20260416T161500Z
DTSTART:20260416T161500Z
DTEND:20260416T174500Z
SUMMARY:Italiano B2
DESCRIPTION:Aides financières &gt;&gt;
LOCATION: - , 
URL:https://vie-de-campus.unige.ch/catalogue/P3690
END:VEVENT
BEGIN:VEVENT
UID:26769@unige.ch
DTSTAMP:20260423T161500Z
DTSTART:20260423T161500Z
DTEND:20260423T174500Z
SUMMARY:Italiano B2
DESCRIPTION:Aides financières &gt;&gt;
LOCATION: - , 
URL:https://vie-de-campus.unige.ch/catalogue/P3690
END:VEVENT
BEGIN:VEVENT
UID:26770@unige.ch
DTSTAMP:20260430T161500Z
DTSTART:20260430T161500Z
DTEND:20260430T174500Z
SUMMARY:Italiano B2
DESCRIPTION:Aides financières &gt;&gt;
LOCATION: - , 
URL:https://vie-de-campus.unige.ch/catalogue/P3690
END:VEVENT
BEGIN:VEVENT
UID:26771@unige.ch
DTSTAMP:20260507T161500Z
DTSTART:20260507T161500Z
DTEND:20260507T174500Z
SUMMARY:Italiano B2
DESCRIPTION:Aides financières &gt;&gt;
LOCATION: - , 
URL:https://vie-de-campus.unige.ch/catalogue/P3690
END:VEVENT
BEGIN:VEVENT
UID:26772@unige.ch
DTSTAMP:20260514T161500Z
DTSTART:20260514T161500Z
DTEND:20260514T174500Z
SUMMARY:Italiano B2
DESCRIPTION:Aides financières &gt;&gt;
LOCATION: - , 
URL:https://vie-de-campus.unige.ch/catalogue/P3690
END:VEVENT
END:VCALENDAR
