BEGIN:VCALENDAR
VERSION:2.0
PRODID:-//hacksw/handcal//NONSGML v1.0//EN
BEGIN:VEVENT
UID:26914@unige.ch
DTSTAMP:20260226T111500Z
DTSTART:20260226T111500Z
DTEND:20260226T124500Z
SUMMARY:Deutsch B1 (JE)
DESCRIPTION:L'Université peut financer vos cours de langue &gt;&gt;
LOCATION: - , 
URL:https://vie-de-campus.unige.ch/catalogue/P3705
END:VEVENT
BEGIN:VEVENT
UID:27856@unige.ch
DTSTAMP:20260305T111500Z
DTSTART:20260305T111500Z
DTEND:20260305T124500Z
SUMMARY:Deutsch B1 (JE)
DESCRIPTION:L'Université peut financer vos cours de langue &gt;&gt;
LOCATION: - , 
URL:https://vie-de-campus.unige.ch/catalogue/P3705
END:VEVENT
BEGIN:VEVENT
UID:27857@unige.ch
DTSTAMP:20260312T111500Z
DTSTART:20260312T111500Z
DTEND:20260312T124500Z
SUMMARY:Deutsch B1 (JE)
DESCRIPTION:L'Université peut financer vos cours de langue &gt;&gt;
LOCATION: - , 
URL:https://vie-de-campus.unige.ch/catalogue/P3705
END:VEVENT
BEGIN:VEVENT
UID:27858@unige.ch
DTSTAMP:20260319T111500Z
DTSTART:20260319T111500Z
DTEND:20260319T124500Z
SUMMARY:Deutsch B1 (JE)
DESCRIPTION:L'Université peut financer vos cours de langue &gt;&gt;
LOCATION: - , 
URL:https://vie-de-campus.unige.ch/catalogue/P3705
END:VEVENT
BEGIN:VEVENT
UID:27859@unige.ch
DTSTAMP:20260326T111500Z
DTSTART:20260326T111500Z
DTEND:20260326T124500Z
SUMMARY:Deutsch B1 (JE)
DESCRIPTION:L'Université peut financer vos cours de langue &gt;&gt;
LOCATION: - , 
URL:https://vie-de-campus.unige.ch/catalogue/P3705
END:VEVENT
BEGIN:VEVENT
UID:27860@unige.ch
DTSTAMP:20260402T101500Z
DTSTART:20260402T101500Z
DTEND:20260402T114500Z
SUMMARY:Deutsch B1 (JE)
DESCRIPTION:L'Université peut financer vos cours de langue &gt;&gt;
LOCATION: - , 
URL:https://vie-de-campus.unige.ch/catalogue/P3705
END:VEVENT
BEGIN:VEVENT
UID:27862@unige.ch
DTSTAMP:20260416T101500Z
DTSTART:20260416T101500Z
DTEND:20260416T114500Z
SUMMARY:Deutsch B1 (JE)
DESCRIPTION:L'Université peut financer vos cours de langue &gt;&gt;
LOCATION: - , 
URL:https://vie-de-campus.unige.ch/catalogue/P3705
END:VEVENT
BEGIN:VEVENT
UID:27863@unige.ch
DTSTAMP:20260423T101500Z
DTSTART:20260423T101500Z
DTEND:20260423T114500Z
SUMMARY:Deutsch B1 (JE)
DESCRIPTION:L'Université peut financer vos cours de langue &gt;&gt;
LOCATION: - , 
URL:https://vie-de-campus.unige.ch/catalogue/P3705
END:VEVENT
BEGIN:VEVENT
UID:27864@unige.ch
DTSTAMP:20260430T101500Z
DTSTART:20260430T101500Z
DTEND:20260430T114500Z
SUMMARY:Deutsch B1 (JE)
DESCRIPTION:L'Université peut financer vos cours de langue &gt;&gt;
LOCATION: - , 
URL:https://vie-de-campus.unige.ch/catalogue/P3705
END:VEVENT
BEGIN:VEVENT
UID:27865@unige.ch
DTSTAMP:20260507T101500Z
DTSTART:20260507T101500Z
DTEND:20260507T114500Z
SUMMARY:Deutsch B1 (JE)
DESCRIPTION:L'Université peut financer vos cours de langue &gt;&gt;
LOCATION: - , 
URL:https://vie-de-campus.unige.ch/catalogue/P3705
END:VEVENT
BEGIN:VEVENT
UID:27866@unige.ch
DTSTAMP:20260514T101500Z
DTSTART:20260514T101500Z
DTEND:20260514T114500Z
SUMMARY:Deutsch B1 (JE)
DESCRIPTION:L'Université peut financer vos cours de langue &gt;&gt;
LOCATION: - , 
URL:https://vie-de-campus.unige.ch/catalogue/P3705
END:VEVENT
END:VCALENDAR
