BEGIN:VCALENDAR
VERSION:2.0
PRODID:-//hacksw/handcal//NONSGML v1.0//EN
BEGIN:VEVENT
UID:26995@unige.ch
DTSTAMP:20260227T111500Z
DTSTART:20260227T111500Z
DTEND:20260227T124500Z
SUMMARY:Deutsch B2 (VE)
DESCRIPTION:Aides financières &gt;&gt;
LOCATION: - , 
URL:https://vie-de-campus.unige.ch/catalogue/P3709
END:VEVENT
BEGIN:VEVENT
UID:26996@unige.ch
DTSTAMP:20260306T111500Z
DTSTART:20260306T111500Z
DTEND:20260306T124500Z
SUMMARY:Deutsch B2 (VE)
DESCRIPTION:Aides financières &gt;&gt;
LOCATION: - , 
URL:https://vie-de-campus.unige.ch/catalogue/P3709
END:VEVENT
BEGIN:VEVENT
UID:26997@unige.ch
DTSTAMP:20260313T111500Z
DTSTART:20260313T111500Z
DTEND:20260313T124500Z
SUMMARY:Deutsch B2 (VE)
DESCRIPTION:Aides financières &gt;&gt;
LOCATION: - , 
URL:https://vie-de-campus.unige.ch/catalogue/P3709
END:VEVENT
BEGIN:VEVENT
UID:26998@unige.ch
DTSTAMP:20260320T111500Z
DTSTART:20260320T111500Z
DTEND:20260320T124500Z
SUMMARY:Deutsch B2 (VE)
DESCRIPTION:Aides financières &gt;&gt;
LOCATION: - , 
URL:https://vie-de-campus.unige.ch/catalogue/P3709
END:VEVENT
BEGIN:VEVENT
UID:26999@unige.ch
DTSTAMP:20260327T111500Z
DTSTART:20260327T111500Z
DTEND:20260327T124500Z
SUMMARY:Deutsch B2 (VE)
DESCRIPTION:Aides financières &gt;&gt;
LOCATION: - , 
URL:https://vie-de-campus.unige.ch/catalogue/P3709
END:VEVENT
BEGIN:VEVENT
UID:27000@unige.ch
DTSTAMP:20260403T101500Z
DTSTART:20260403T101500Z
DTEND:20260403T114500Z
SUMMARY:Deutsch B2 (VE)
DESCRIPTION:Aides financières &gt;&gt;
LOCATION: - , 
URL:https://vie-de-campus.unige.ch/catalogue/P3709
END:VEVENT
BEGIN:VEVENT
UID:27001@unige.ch
DTSTAMP:20260410T101500Z
DTSTART:20260410T101500Z
DTEND:20260410T114500Z
SUMMARY:Deutsch B2 (VE)
DESCRIPTION:Aides financières &gt;&gt;
LOCATION: - , 
URL:https://vie-de-campus.unige.ch/catalogue/P3709
END:VEVENT
BEGIN:VEVENT
UID:27002@unige.ch
DTSTAMP:20260417T101500Z
DTSTART:20260417T101500Z
DTEND:20260417T114500Z
SUMMARY:Deutsch B2 (VE)
DESCRIPTION:Aides financières &gt;&gt;
LOCATION: - , 
URL:https://vie-de-campus.unige.ch/catalogue/P3709
END:VEVENT
BEGIN:VEVENT
UID:27003@unige.ch
DTSTAMP:20260424T101500Z
DTSTART:20260424T101500Z
DTEND:20260424T114500Z
SUMMARY:Deutsch B2 (VE)
DESCRIPTION:Aides financières &gt;&gt;
LOCATION: - , 
URL:https://vie-de-campus.unige.ch/catalogue/P3709
END:VEVENT
BEGIN:VEVENT
UID:27004@unige.ch
DTSTAMP:20260501T101500Z
DTSTART:20260501T101500Z
DTEND:20260501T114500Z
SUMMARY:Deutsch B2 (VE)
DESCRIPTION:Aides financières &gt;&gt;
LOCATION: - , 
URL:https://vie-de-campus.unige.ch/catalogue/P3709
END:VEVENT
BEGIN:VEVENT
UID:27005@unige.ch
DTSTAMP:20260508T101500Z
DTSTART:20260508T101500Z
DTEND:20260508T114500Z
SUMMARY:Deutsch B2 (VE)
DESCRIPTION:Aides financières &gt;&gt;
LOCATION: - , 
URL:https://vie-de-campus.unige.ch/catalogue/P3709
END:VEVENT
BEGIN:VEVENT
UID:27006@unige.ch
DTSTAMP:20260515T101500Z
DTSTART:20260515T101500Z
DTEND:20260515T114500Z
SUMMARY:Deutsch B2 (VE)
DESCRIPTION:Aides financières &gt;&gt;
LOCATION: - , 
URL:https://vie-de-campus.unige.ch/catalogue/P3709
END:VEVENT
END:VCALENDAR
