BEGIN:VCALENDAR
VERSION:2.0
PRODID:-//hacksw/handcal//NONSGML v1.0//EN
BEGIN:VEVENT
UID:27604@unige.ch
DTSTAMP:20260225T111500Z
DTSTART:20260225T111500Z
DTEND:20260225T124500Z
SUMMARY:Français Ecrit-Grammaire B1
DESCRIPTION:L'Université peut financer vos cours de langue &gt;&gt;
LOCATION: - , 
URL:https://vie-de-campus.unige.ch/catalogue/P3755
END:VEVENT
BEGIN:VEVENT
UID:27605@unige.ch
DTSTAMP:20260304T111500Z
DTSTART:20260304T111500Z
DTEND:20260304T124500Z
SUMMARY:Français Ecrit-Grammaire B1
DESCRIPTION:L'Université peut financer vos cours de langue &gt;&gt;
LOCATION: - , 
URL:https://vie-de-campus.unige.ch/catalogue/P3755
END:VEVENT
BEGIN:VEVENT
UID:27606@unige.ch
DTSTAMP:20260311T111500Z
DTSTART:20260311T111500Z
DTEND:20260311T124500Z
SUMMARY:Français Ecrit-Grammaire B1
DESCRIPTION:L'Université peut financer vos cours de langue &gt;&gt;
LOCATION: - , 
URL:https://vie-de-campus.unige.ch/catalogue/P3755
END:VEVENT
BEGIN:VEVENT
UID:27607@unige.ch
DTSTAMP:20260318T111500Z
DTSTART:20260318T111500Z
DTEND:20260318T124500Z
SUMMARY:Français Ecrit-Grammaire B1
DESCRIPTION:L'Université peut financer vos cours de langue &gt;&gt;
LOCATION: - , 
URL:https://vie-de-campus.unige.ch/catalogue/P3755
END:VEVENT
BEGIN:VEVENT
UID:27608@unige.ch
DTSTAMP:20260325T111500Z
DTSTART:20260325T111500Z
DTEND:20260325T124500Z
SUMMARY:Français Ecrit-Grammaire B1
DESCRIPTION:L'Université peut financer vos cours de langue &gt;&gt;
LOCATION: - , 
URL:https://vie-de-campus.unige.ch/catalogue/P3755
END:VEVENT
BEGIN:VEVENT
UID:27609@unige.ch
DTSTAMP:20260401T101500Z
DTSTART:20260401T101500Z
DTEND:20260401T114500Z
SUMMARY:Français Ecrit-Grammaire B1
DESCRIPTION:L'Université peut financer vos cours de langue &gt;&gt;
LOCATION: - , 
URL:https://vie-de-campus.unige.ch/catalogue/P3755
END:VEVENT
BEGIN:VEVENT
UID:27610@unige.ch
DTSTAMP:20260415T101500Z
DTSTART:20260415T101500Z
DTEND:20260415T114500Z
SUMMARY:Français Ecrit-Grammaire B1
DESCRIPTION:L'Université peut financer vos cours de langue &gt;&gt;
LOCATION: - , 
URL:https://vie-de-campus.unige.ch/catalogue/P3755
END:VEVENT
BEGIN:VEVENT
UID:27611@unige.ch
DTSTAMP:20260422T101500Z
DTSTART:20260422T101500Z
DTEND:20260422T114500Z
SUMMARY:Français Ecrit-Grammaire B1
DESCRIPTION:L'Université peut financer vos cours de langue &gt;&gt;
LOCATION: - , 
URL:https://vie-de-campus.unige.ch/catalogue/P3755
END:VEVENT
BEGIN:VEVENT
UID:27612@unige.ch
DTSTAMP:20260429T101500Z
DTSTART:20260429T101500Z
DTEND:20260429T114500Z
SUMMARY:Français Ecrit-Grammaire B1
DESCRIPTION:L'Université peut financer vos cours de langue &gt;&gt;
LOCATION: - , 
URL:https://vie-de-campus.unige.ch/catalogue/P3755
END:VEVENT
BEGIN:VEVENT
UID:27613@unige.ch
DTSTAMP:20260506T101500Z
DTSTART:20260506T101500Z
DTEND:20260506T114500Z
SUMMARY:Français Ecrit-Grammaire B1
DESCRIPTION:L'Université peut financer vos cours de langue &gt;&gt;
LOCATION: - , 
URL:https://vie-de-campus.unige.ch/catalogue/P3755
END:VEVENT
BEGIN:VEVENT
UID:27614@unige.ch
DTSTAMP:20260513T101500Z
DTSTART:20260513T101500Z
DTEND:20260513T114500Z
SUMMARY:Français Ecrit-Grammaire B1
DESCRIPTION:L'Université peut financer vos cours de langue &gt;&gt;
LOCATION: - , 
URL:https://vie-de-campus.unige.ch/catalogue/P3755
END:VEVENT
END:VCALENDAR
