BEGIN:VCALENDAR
VERSION:2.0
PRODID:-//hacksw/handcal//NONSGML v1.0//EN
BEGIN:VEVENT
UID:27627@unige.ch
DTSTAMP:20260225T131500Z
DTSTART:20260225T131500Z
DTEND:20260225T144500Z
SUMMARY:Français A1 (ME)
DESCRIPTION:L'Université peut financer vos cours de langue &gt;&gt;
LOCATION: - , 
URL:https://vie-de-campus.unige.ch/catalogue/P3758
END:VEVENT
BEGIN:VEVENT
UID:27628@unige.ch
DTSTAMP:20260304T131500Z
DTSTART:20260304T131500Z
DTEND:20260304T144500Z
SUMMARY:Français A1 (ME)
DESCRIPTION:L'Université peut financer vos cours de langue &gt;&gt;
LOCATION: - , 
URL:https://vie-de-campus.unige.ch/catalogue/P3758
END:VEVENT
BEGIN:VEVENT
UID:27629@unige.ch
DTSTAMP:20260311T131500Z
DTSTART:20260311T131500Z
DTEND:20260311T144500Z
SUMMARY:Français A1 (ME)
DESCRIPTION:L'Université peut financer vos cours de langue &gt;&gt;
LOCATION: - , 
URL:https://vie-de-campus.unige.ch/catalogue/P3758
END:VEVENT
BEGIN:VEVENT
UID:27630@unige.ch
DTSTAMP:20260318T131500Z
DTSTART:20260318T131500Z
DTEND:20260318T144500Z
SUMMARY:Français A1 (ME)
DESCRIPTION:L'Université peut financer vos cours de langue &gt;&gt;
LOCATION: - , 
URL:https://vie-de-campus.unige.ch/catalogue/P3758
END:VEVENT
BEGIN:VEVENT
UID:27631@unige.ch
DTSTAMP:20260325T131500Z
DTSTART:20260325T131500Z
DTEND:20260325T144500Z
SUMMARY:Français A1 (ME)
DESCRIPTION:L'Université peut financer vos cours de langue &gt;&gt;
LOCATION: - , 
URL:https://vie-de-campus.unige.ch/catalogue/P3758
END:VEVENT
BEGIN:VEVENT
UID:27632@unige.ch
DTSTAMP:20260401T121500Z
DTSTART:20260401T121500Z
DTEND:20260401T134500Z
SUMMARY:Français A1 (ME)
DESCRIPTION:L'Université peut financer vos cours de langue &gt;&gt;
LOCATION: - , 
URL:https://vie-de-campus.unige.ch/catalogue/P3758
END:VEVENT
BEGIN:VEVENT
UID:27633@unige.ch
DTSTAMP:20260415T121500Z
DTSTART:20260415T121500Z
DTEND:20260415T134500Z
SUMMARY:Français A1 (ME)
DESCRIPTION:L'Université peut financer vos cours de langue &gt;&gt;
LOCATION: - , 
URL:https://vie-de-campus.unige.ch/catalogue/P3758
END:VEVENT
BEGIN:VEVENT
UID:27634@unige.ch
DTSTAMP:20260422T121500Z
DTSTART:20260422T121500Z
DTEND:20260422T134500Z
SUMMARY:Français A1 (ME)
DESCRIPTION:L'Université peut financer vos cours de langue &gt;&gt;
LOCATION: - , 
URL:https://vie-de-campus.unige.ch/catalogue/P3758
END:VEVENT
BEGIN:VEVENT
UID:27635@unige.ch
DTSTAMP:20260429T121500Z
DTSTART:20260429T121500Z
DTEND:20260429T134500Z
SUMMARY:Français A1 (ME)
DESCRIPTION:L'Université peut financer vos cours de langue &gt;&gt;
LOCATION: - , 
URL:https://vie-de-campus.unige.ch/catalogue/P3758
END:VEVENT
BEGIN:VEVENT
UID:27636@unige.ch
DTSTAMP:20260506T121500Z
DTSTART:20260506T121500Z
DTEND:20260506T134500Z
SUMMARY:Français A1 (ME)
DESCRIPTION:L'Université peut financer vos cours de langue &gt;&gt;
LOCATION: - , 
URL:https://vie-de-campus.unige.ch/catalogue/P3758
END:VEVENT
BEGIN:VEVENT
UID:27637@unige.ch
DTSTAMP:20260513T121500Z
DTSTART:20260513T121500Z
DTEND:20260513T134500Z
SUMMARY:Français A1 (ME)
DESCRIPTION:L'Université peut financer vos cours de langue &gt;&gt;
LOCATION: - , 
URL:https://vie-de-campus.unige.ch/catalogue/P3758
END:VEVENT
END:VCALENDAR
