BEGIN:VCALENDAR
VERSION:2.0
PRODID:-//hacksw/handcal//NONSGML v1.0//EN
BEGIN:VEVENT
UID:27638@unige.ch
DTSTAMP:20260225T131500Z
DTSTART:20260225T131500Z
DTEND:20260225T144500Z
SUMMARY:Français C2
DESCRIPTION:L'Université peut financer vos cours de langue &gt;&gt;
LOCATION: - , 
URL:https://vie-de-campus.unige.ch/catalogue/P3759
END:VEVENT
BEGIN:VEVENT
UID:27639@unige.ch
DTSTAMP:20260304T131500Z
DTSTART:20260304T131500Z
DTEND:20260304T144500Z
SUMMARY:Français C2
DESCRIPTION:L'Université peut financer vos cours de langue &gt;&gt;
LOCATION: - , 
URL:https://vie-de-campus.unige.ch/catalogue/P3759
END:VEVENT
BEGIN:VEVENT
UID:27640@unige.ch
DTSTAMP:20260311T131500Z
DTSTART:20260311T131500Z
DTEND:20260311T144500Z
SUMMARY:Français C2
DESCRIPTION:L'Université peut financer vos cours de langue &gt;&gt;
LOCATION: - , 
URL:https://vie-de-campus.unige.ch/catalogue/P3759
END:VEVENT
BEGIN:VEVENT
UID:27641@unige.ch
DTSTAMP:20260318T131500Z
DTSTART:20260318T131500Z
DTEND:20260318T144500Z
SUMMARY:Français C2
DESCRIPTION:L'Université peut financer vos cours de langue &gt;&gt;
LOCATION: - , 
URL:https://vie-de-campus.unige.ch/catalogue/P3759
END:VEVENT
BEGIN:VEVENT
UID:27642@unige.ch
DTSTAMP:20260325T131500Z
DTSTART:20260325T131500Z
DTEND:20260325T144500Z
SUMMARY:Français C2
DESCRIPTION:L'Université peut financer vos cours de langue &gt;&gt;
LOCATION: - , 
URL:https://vie-de-campus.unige.ch/catalogue/P3759
END:VEVENT
BEGIN:VEVENT
UID:27643@unige.ch
DTSTAMP:20260401T121500Z
DTSTART:20260401T121500Z
DTEND:20260401T134500Z
SUMMARY:Français C2
DESCRIPTION:L'Université peut financer vos cours de langue &gt;&gt;
LOCATION: - , 
URL:https://vie-de-campus.unige.ch/catalogue/P3759
END:VEVENT
BEGIN:VEVENT
UID:27644@unige.ch
DTSTAMP:20260415T121500Z
DTSTART:20260415T121500Z
DTEND:20260415T134500Z
SUMMARY:Français C2
DESCRIPTION:L'Université peut financer vos cours de langue &gt;&gt;
LOCATION: - , 
URL:https://vie-de-campus.unige.ch/catalogue/P3759
END:VEVENT
BEGIN:VEVENT
UID:27645@unige.ch
DTSTAMP:20260422T121500Z
DTSTART:20260422T121500Z
DTEND:20260422T134500Z
SUMMARY:Français C2
DESCRIPTION:L'Université peut financer vos cours de langue &gt;&gt;
LOCATION: - , 
URL:https://vie-de-campus.unige.ch/catalogue/P3759
END:VEVENT
BEGIN:VEVENT
UID:27646@unige.ch
DTSTAMP:20260429T121500Z
DTSTART:20260429T121500Z
DTEND:20260429T134500Z
SUMMARY:Français C2
DESCRIPTION:L'Université peut financer vos cours de langue &gt;&gt;
LOCATION: - , 
URL:https://vie-de-campus.unige.ch/catalogue/P3759
END:VEVENT
BEGIN:VEVENT
UID:27647@unige.ch
DTSTAMP:20260506T121500Z
DTSTART:20260506T121500Z
DTEND:20260506T134500Z
SUMMARY:Français C2
DESCRIPTION:L'Université peut financer vos cours de langue &gt;&gt;
LOCATION: - , 
URL:https://vie-de-campus.unige.ch/catalogue/P3759
END:VEVENT
BEGIN:VEVENT
UID:27648@unige.ch
DTSTAMP:20260513T121500Z
DTSTART:20260513T121500Z
DTEND:20260513T134500Z
SUMMARY:Français C2
DESCRIPTION:L'Université peut financer vos cours de langue &gt;&gt;
LOCATION: - , 
URL:https://vie-de-campus.unige.ch/catalogue/P3759
END:VEVENT
END:VCALENDAR
