BEGIN:VCALENDAR
VERSION:2.0
PRODID:-//hacksw/handcal//NONSGML v1.0//EN
BEGIN:VEVENT
UID:28196@unige.ch
DTSTAMP:20260629T060000Z
DTSTART:20260629T060000Z
DTEND:20260710T160000Z
SUMMARY:Graduate Study Programme at UN Geneva
DESCRIPTION:
LOCATION:Palais des Nations - 8, Av. de la Paix 14, 1202 Genève
URL:https://vie-de-campus.unige.ch/catalogue/P3856
END:VEVENT
END:VCALENDAR
