BEGIN:VCALENDAR
VERSION:2.0
PRODID:-//hacksw/handcal//NONSGML v1.0//EN
BEGIN:VEVENT
UID:28199@unige.ch
DTSTAMP:20260126T193000Z
DTSTART:20260126T193000Z
DTEND:20260126T210500Z
SUMMARY:Combat d’amour en songe
DESCRIPTION:Les billets s'achètent sur place (en espèces ou par carte) ou directement sur le site des Cinémas du Grütli.
LOCATION:Les Cinémas du Grütli - Maison des Arts du Grütli, 1204 Genève
URL:https://vie-de-campus.unige.ch/catalogue/P3859
END:VEVENT
END:VCALENDAR
