BEGIN:VCALENDAR
VERSION:2.0
PRODID:-//hacksw/handcal//NONSGML v1.0//EN
BEGIN:VEVENT
UID:28207@unige.ch
DTSTAMP:20260323T190000Z
DTSTART:20260323T190000Z
DTEND:20260323T213000Z
SUMMARY:Lost Highway
DESCRIPTION:
LOCATION:Les Cinémas du Grütli - Maison des Arts du Grütli, 1204 Genève
URL:https://vie-de-campus.unige.ch/catalogue/P3867
END:VEVENT
END:VCALENDAR
