BEGIN:VCALENDAR
VERSION:2.0
PRODID:-//hacksw/handcal//NONSGML v1.0//EN
BEGIN:VEVENT
UID:28432@unige.ch
DTSTAMP:20260224T080000Z
DTSTART:20260224T080000Z
DTEND:20260224T110000Z
SUMMARY:Mission Emploi
DESCRIPTION:
LOCATION:Uni Mail | MR160 - Boulevard du Pont-d’Arve 40, 1205 Genève
GEO:46.195041;6.139897
URL:https://vie-de-campus.unige.ch/catalogue/P3900
END:VEVENT
END:VCALENDAR
