BEGIN:VCALENDAR
VERSION:2.0
PRODID:-//hacksw/handcal//NONSGML v1.0//EN
BEGIN:VEVENT
UID:28955@unige.ch
DTSTAMP:20260302T180000Z
DTSTART:20260302T180000Z
DTEND:20260302T210000Z
SUMMARY:Labo photo
DESCRIPTION:Inscriptionsnombre limité à 6 inscriptions
LOCATION:Cité U | Labo Photo - Avenue de Miremont 46, 1206 Genève
GEO:46.186864;6.159022
URL:https://vie-de-campus.unige.ch/catalogue/P3962
END:VEVENT
BEGIN:VEVENT
UID:28956@unige.ch
DTSTAMP:20260309T180000Z
DTSTART:20260309T180000Z
DTEND:20260309T210000Z
SUMMARY:Labo photo
DESCRIPTION:Inscriptionsnombre limité à 6 inscriptions
LOCATION:Cité U | Labo Photo - Avenue de Miremont 46, 1206 Genève
GEO:46.186864;6.159022
URL:https://vie-de-campus.unige.ch/catalogue/P3962
END:VEVENT
BEGIN:VEVENT
UID:28957@unige.ch
DTSTAMP:20260316T180000Z
DTSTART:20260316T180000Z
DTEND:20260316T210000Z
SUMMARY:Labo photo
DESCRIPTION:Inscriptionsnombre limité à 6 inscriptions
LOCATION:Cité U | Labo Photo - Avenue de Miremont 46, 1206 Genève
GEO:46.186864;6.159022
URL:https://vie-de-campus.unige.ch/catalogue/P3962
END:VEVENT
BEGIN:VEVENT
UID:28958@unige.ch
DTSTAMP:20260323T180000Z
DTSTART:20260323T180000Z
DTEND:20260323T210000Z
SUMMARY:Labo photo
DESCRIPTION:Inscriptionsnombre limité à 6 inscriptions
LOCATION:Cité U | Labo Photo - Avenue de Miremont 46, 1206 Genève
GEO:46.186864;6.159022
URL:https://vie-de-campus.unige.ch/catalogue/P3962
END:VEVENT
END:VCALENDAR
