BEGIN:VCALENDAR
VERSION:2.0
PRODID:-//hacksw/handcal//NONSGML v1.0//EN
BEGIN:VEVENT
UID:29009@unige.ch
DTSTAMP:20260218T181500Z
DTSTART:20260218T181500Z
DTEND:20260218T191500Z
SUMMARY:Salsa cubaine
DESCRIPTION:InscriptionLes cours sont uniquement ouverts aux personnes ayant participé aux 1er semestre et priorité aux étudiant-es.Leader/followerLe follower est la personne qui suit les figures indiquées par le leader. Même si traditionnellement ce sont les femmes qui occupent cette position, n'importe qui peut choisir de s'inscrire en tant que Followers.
LOCATION:Uni Mail | MS140 - Boulevard du Pont-d’Arve 40, 1205 Genève
GEO:46.195041;6.139897
URL:https://vie-de-campus.unige.ch/catalogue/P3974
END:VEVENT
BEGIN:VEVENT
UID:29010@unige.ch
DTSTAMP:20260225T181500Z
DTSTART:20260225T181500Z
DTEND:20260225T191500Z
SUMMARY:Salsa cubaine
DESCRIPTION:InscriptionLes cours sont uniquement ouverts aux personnes ayant participé aux 1er semestre et priorité aux étudiant-es.Leader/followerLe follower est la personne qui suit les figures indiquées par le leader. Même si traditionnellement ce sont les femmes qui occupent cette position, n'importe qui peut choisir de s'inscrire en tant que Followers.
LOCATION:Uni Mail | MS140 - Boulevard du Pont-d’Arve 40, 1205 Genève
GEO:46.195041;6.139897
URL:https://vie-de-campus.unige.ch/catalogue/P3974
END:VEVENT
BEGIN:VEVENT
UID:29011@unige.ch
DTSTAMP:20260304T181500Z
DTSTART:20260304T181500Z
DTEND:20260304T191500Z
SUMMARY:Salsa cubaine
DESCRIPTION:InscriptionLes cours sont uniquement ouverts aux personnes ayant participé aux 1er semestre et priorité aux étudiant-es.Leader/followerLe follower est la personne qui suit les figures indiquées par le leader. Même si traditionnellement ce sont les femmes qui occupent cette position, n'importe qui peut choisir de s'inscrire en tant que Followers.
LOCATION:Uni Mail | MS140 - Boulevard du Pont-d’Arve 40, 1205 Genève
GEO:46.195041;6.139897
URL:https://vie-de-campus.unige.ch/catalogue/P3974
END:VEVENT
BEGIN:VEVENT
UID:29012@unige.ch
DTSTAMP:20260311T181500Z
DTSTART:20260311T181500Z
DTEND:20260311T191500Z
SUMMARY:Salsa cubaine
DESCRIPTION:InscriptionLes cours sont uniquement ouverts aux personnes ayant participé aux 1er semestre et priorité aux étudiant-es.Leader/followerLe follower est la personne qui suit les figures indiquées par le leader. Même si traditionnellement ce sont les femmes qui occupent cette position, n'importe qui peut choisir de s'inscrire en tant que Followers.
LOCATION:Uni Mail | MS140 - Boulevard du Pont-d’Arve 40, 1205 Genève
GEO:46.195041;6.139897
URL:https://vie-de-campus.unige.ch/catalogue/P3974
END:VEVENT
BEGIN:VEVENT
UID:29013@unige.ch
DTSTAMP:20260318T181500Z
DTSTART:20260318T181500Z
DTEND:20260318T191500Z
SUMMARY:Salsa cubaine
DESCRIPTION:InscriptionLes cours sont uniquement ouverts aux personnes ayant participé aux 1er semestre et priorité aux étudiant-es.Leader/followerLe follower est la personne qui suit les figures indiquées par le leader. Même si traditionnellement ce sont les femmes qui occupent cette position, n'importe qui peut choisir de s'inscrire en tant que Followers.
LOCATION:Uni Mail | MS140 - Boulevard du Pont-d’Arve 40, 1205 Genève
GEO:46.195041;6.139897
URL:https://vie-de-campus.unige.ch/catalogue/P3974
END:VEVENT
BEGIN:VEVENT
UID:29014@unige.ch
DTSTAMP:20260325T181500Z
DTSTART:20260325T181500Z
DTEND:20260325T191500Z
SUMMARY:Salsa cubaine
DESCRIPTION:InscriptionLes cours sont uniquement ouverts aux personnes ayant participé aux 1er semestre et priorité aux étudiant-es.Leader/followerLe follower est la personne qui suit les figures indiquées par le leader. Même si traditionnellement ce sont les femmes qui occupent cette position, n'importe qui peut choisir de s'inscrire en tant que Followers.
LOCATION:Uni Mail | MS140 - Boulevard du Pont-d’Arve 40, 1205 Genève
GEO:46.195041;6.139897
URL:https://vie-de-campus.unige.ch/catalogue/P3974
END:VEVENT
BEGIN:VEVENT
UID:29015@unige.ch
DTSTAMP:20260401T171500Z
DTSTART:20260401T171500Z
DTEND:20260401T181500Z
SUMMARY:Salsa cubaine
DESCRIPTION:InscriptionLes cours sont uniquement ouverts aux personnes ayant participé aux 1er semestre et priorité aux étudiant-es.Leader/followerLe follower est la personne qui suit les figures indiquées par le leader. Même si traditionnellement ce sont les femmes qui occupent cette position, n'importe qui peut choisir de s'inscrire en tant que Followers.
LOCATION:Uni Mail | MS140 - Boulevard du Pont-d’Arve 40, 1205 Genève
GEO:46.195041;6.139897
URL:https://vie-de-campus.unige.ch/catalogue/P3974
END:VEVENT
BEGIN:VEVENT
UID:29016@unige.ch
DTSTAMP:20260415T171500Z
DTSTART:20260415T171500Z
DTEND:20260415T181500Z
SUMMARY:Salsa cubaine
DESCRIPTION:InscriptionLes cours sont uniquement ouverts aux personnes ayant participé aux 1er semestre et priorité aux étudiant-es.Leader/followerLe follower est la personne qui suit les figures indiquées par le leader. Même si traditionnellement ce sont les femmes qui occupent cette position, n'importe qui peut choisir de s'inscrire en tant que Followers.
LOCATION:Uni Mail | MS140 - Boulevard du Pont-d’Arve 40, 1205 Genève
GEO:46.195041;6.139897
URL:https://vie-de-campus.unige.ch/catalogue/P3974
END:VEVENT
BEGIN:VEVENT
UID:29017@unige.ch
DTSTAMP:20260422T171500Z
DTSTART:20260422T171500Z
DTEND:20260422T181500Z
SUMMARY:Salsa cubaine
DESCRIPTION:InscriptionLes cours sont uniquement ouverts aux personnes ayant participé aux 1er semestre et priorité aux étudiant-es.Leader/followerLe follower est la personne qui suit les figures indiquées par le leader. Même si traditionnellement ce sont les femmes qui occupent cette position, n'importe qui peut choisir de s'inscrire en tant que Followers.
LOCATION:Uni Mail | MS140 - Boulevard du Pont-d’Arve 40, 1205 Genève
GEO:46.195041;6.139897
URL:https://vie-de-campus.unige.ch/catalogue/P3974
END:VEVENT
BEGIN:VEVENT
UID:29018@unige.ch
DTSTAMP:20260429T171500Z
DTSTART:20260429T171500Z
DTEND:20260429T181500Z
SUMMARY:Salsa cubaine
DESCRIPTION:InscriptionLes cours sont uniquement ouverts aux personnes ayant participé aux 1er semestre et priorité aux étudiant-es.Leader/followerLe follower est la personne qui suit les figures indiquées par le leader. Même si traditionnellement ce sont les femmes qui occupent cette position, n'importe qui peut choisir de s'inscrire en tant que Followers.
LOCATION:Uni Mail | MS140 - Boulevard du Pont-d’Arve 40, 1205 Genève
GEO:46.195041;6.139897
URL:https://vie-de-campus.unige.ch/catalogue/P3974
END:VEVENT
BEGIN:VEVENT
UID:29019@unige.ch
DTSTAMP:20260506T171500Z
DTSTART:20260506T171500Z
DTEND:20260506T181500Z
SUMMARY:Salsa cubaine
DESCRIPTION:InscriptionLes cours sont uniquement ouverts aux personnes ayant participé aux 1er semestre et priorité aux étudiant-es.Leader/followerLe follower est la personne qui suit les figures indiquées par le leader. Même si traditionnellement ce sont les femmes qui occupent cette position, n'importe qui peut choisir de s'inscrire en tant que Followers.
LOCATION:Uni Mail | MS140 - Boulevard du Pont-d’Arve 40, 1205 Genève
GEO:46.195041;6.139897
URL:https://vie-de-campus.unige.ch/catalogue/P3974
END:VEVENT
END:VCALENDAR
