BEGIN:VCALENDAR
VERSION:2.0
PRODID:-//hacksw/handcal//NONSGML v1.0//EN
BEGIN:VEVENT
UID:29085@unige.ch
DTSTAMP:20260220T181500Z
DTSTART:20260220T181500Z
DTEND:20260220T191500Z
SUMMARY:Salsa cubaine
DESCRIPTION:InscriptionLes cours sont uniquement ouverts aux personnes ayant participé aux 1er semestre et priorité aux étudiant-es.Leader/followerLe follower est la personne qui suit les figures indiquées par le leader. Même si traditionnellement ce sont les femmes qui occupent cette position, n'importe qui peut choisir de s'inscrire en tant que Followers.
LOCATION:Uni Mail | MS140 - Boulevard du Pont-d’Arve 40, 1205 Genève
GEO:46.195041;6.139897
URL:https://vie-de-campus.unige.ch/catalogue/P3983
END:VEVENT
BEGIN:VEVENT
UID:29086@unige.ch
DTSTAMP:20260227T181500Z
DTSTART:20260227T181500Z
DTEND:20260227T191500Z
SUMMARY:Salsa cubaine
DESCRIPTION:InscriptionLes cours sont uniquement ouverts aux personnes ayant participé aux 1er semestre et priorité aux étudiant-es.Leader/followerLe follower est la personne qui suit les figures indiquées par le leader. Même si traditionnellement ce sont les femmes qui occupent cette position, n'importe qui peut choisir de s'inscrire en tant que Followers.
LOCATION:Uni Mail | MS140 - Boulevard du Pont-d’Arve 40, 1205 Genève
GEO:46.195041;6.139897
URL:https://vie-de-campus.unige.ch/catalogue/P3983
END:VEVENT
BEGIN:VEVENT
UID:29087@unige.ch
DTSTAMP:20260306T181500Z
DTSTART:20260306T181500Z
DTEND:20260306T191500Z
SUMMARY:Salsa cubaine
DESCRIPTION:InscriptionLes cours sont uniquement ouverts aux personnes ayant participé aux 1er semestre et priorité aux étudiant-es.Leader/followerLe follower est la personne qui suit les figures indiquées par le leader. Même si traditionnellement ce sont les femmes qui occupent cette position, n'importe qui peut choisir de s'inscrire en tant que Followers.
LOCATION:Uni Mail | MS140 - Boulevard du Pont-d’Arve 40, 1205 Genève
GEO:46.195041;6.139897
URL:https://vie-de-campus.unige.ch/catalogue/P3983
END:VEVENT
BEGIN:VEVENT
UID:29088@unige.ch
DTSTAMP:20260313T181500Z
DTSTART:20260313T181500Z
DTEND:20260313T191500Z
SUMMARY:Salsa cubaine
DESCRIPTION:InscriptionLes cours sont uniquement ouverts aux personnes ayant participé aux 1er semestre et priorité aux étudiant-es.Leader/followerLe follower est la personne qui suit les figures indiquées par le leader. Même si traditionnellement ce sont les femmes qui occupent cette position, n'importe qui peut choisir de s'inscrire en tant que Followers.
LOCATION:Uni Mail | MS140 - Boulevard du Pont-d’Arve 40, 1205 Genève
GEO:46.195041;6.139897
URL:https://vie-de-campus.unige.ch/catalogue/P3983
END:VEVENT
BEGIN:VEVENT
UID:29089@unige.ch
DTSTAMP:20260320T181500Z
DTSTART:20260320T181500Z
DTEND:20260320T191500Z
SUMMARY:Salsa cubaine
DESCRIPTION:InscriptionLes cours sont uniquement ouverts aux personnes ayant participé aux 1er semestre et priorité aux étudiant-es.Leader/followerLe follower est la personne qui suit les figures indiquées par le leader. Même si traditionnellement ce sont les femmes qui occupent cette position, n'importe qui peut choisir de s'inscrire en tant que Followers.
LOCATION:Uni Mail | MS140 - Boulevard du Pont-d’Arve 40, 1205 Genève
GEO:46.195041;6.139897
URL:https://vie-de-campus.unige.ch/catalogue/P3983
END:VEVENT
BEGIN:VEVENT
UID:29090@unige.ch
DTSTAMP:20260327T181500Z
DTSTART:20260327T181500Z
DTEND:20260327T191500Z
SUMMARY:Salsa cubaine
DESCRIPTION:InscriptionLes cours sont uniquement ouverts aux personnes ayant participé aux 1er semestre et priorité aux étudiant-es.Leader/followerLe follower est la personne qui suit les figures indiquées par le leader. Même si traditionnellement ce sont les femmes qui occupent cette position, n'importe qui peut choisir de s'inscrire en tant que Followers.
LOCATION:Uni Mail | MS140 - Boulevard du Pont-d’Arve 40, 1205 Genève
GEO:46.195041;6.139897
URL:https://vie-de-campus.unige.ch/catalogue/P3983
END:VEVENT
BEGIN:VEVENT
UID:29091@unige.ch
DTSTAMP:20260417T171500Z
DTSTART:20260417T171500Z
DTEND:20260417T181500Z
SUMMARY:Salsa cubaine
DESCRIPTION:InscriptionLes cours sont uniquement ouverts aux personnes ayant participé aux 1er semestre et priorité aux étudiant-es.Leader/followerLe follower est la personne qui suit les figures indiquées par le leader. Même si traditionnellement ce sont les femmes qui occupent cette position, n'importe qui peut choisir de s'inscrire en tant que Followers.
LOCATION:Uni Mail | MS140 - Boulevard du Pont-d’Arve 40, 1205 Genève
GEO:46.195041;6.139897
URL:https://vie-de-campus.unige.ch/catalogue/P3983
END:VEVENT
BEGIN:VEVENT
UID:29092@unige.ch
DTSTAMP:20260424T171500Z
DTSTART:20260424T171500Z
DTEND:20260424T181500Z
SUMMARY:Salsa cubaine
DESCRIPTION:InscriptionLes cours sont uniquement ouverts aux personnes ayant participé aux 1er semestre et priorité aux étudiant-es.Leader/followerLe follower est la personne qui suit les figures indiquées par le leader. Même si traditionnellement ce sont les femmes qui occupent cette position, n'importe qui peut choisir de s'inscrire en tant que Followers.
LOCATION:Uni Mail | MS140 - Boulevard du Pont-d’Arve 40, 1205 Genève
GEO:46.195041;6.139897
URL:https://vie-de-campus.unige.ch/catalogue/P3983
END:VEVENT
BEGIN:VEVENT
UID:29093@unige.ch
DTSTAMP:20260515T171500Z
DTSTART:20260515T171500Z
DTEND:20260515T181500Z
SUMMARY:Salsa cubaine
DESCRIPTION:InscriptionLes cours sont uniquement ouverts aux personnes ayant participé aux 1er semestre et priorité aux étudiant-es.Leader/followerLe follower est la personne qui suit les figures indiquées par le leader. Même si traditionnellement ce sont les femmes qui occupent cette position, n'importe qui peut choisir de s'inscrire en tant que Followers.
LOCATION:Uni Mail | MS140 - Boulevard du Pont-d’Arve 40, 1205 Genève
GEO:46.195041;6.139897
URL:https://vie-de-campus.unige.ch/catalogue/P3983
END:VEVENT
BEGIN:VEVENT
UID:29094@unige.ch
DTSTAMP:20260522T171500Z
DTSTART:20260522T171500Z
DTEND:20260522T181500Z
SUMMARY:Salsa cubaine
DESCRIPTION:InscriptionLes cours sont uniquement ouverts aux personnes ayant participé aux 1er semestre et priorité aux étudiant-es.Leader/followerLe follower est la personne qui suit les figures indiquées par le leader. Même si traditionnellement ce sont les femmes qui occupent cette position, n'importe qui peut choisir de s'inscrire en tant que Followers.
LOCATION:Uni Mail | MS140 - Boulevard du Pont-d’Arve 40, 1205 Genève
GEO:46.195041;6.139897
URL:https://vie-de-campus.unige.ch/catalogue/P3983
END:VEVENT
END:VCALENDAR
