BEGIN:VCALENDAR
VERSION:2.0
PRODID:-//hacksw/handcal//NONSGML v1.0//EN
BEGIN:VEVENT
UID:29322@unige.ch
DTSTAMP:20260306T090000Z
DTSTART:20260306T090000Z
DTEND:20260306T150000Z
SUMMARY:Career Forum | GSEM – GSI
DESCRIPTION:À ce jour, les institutions suivantes ont confirmé leur participation - To date, the following institutions have confirmed their participation: Albedis - Interiman GroupASCEAS GenèveAssociation Suisse des Gestionnaires de fortune | ASGBCGE - Banque Cantonale de GenèveBNP ParibasCINFOCitibankCodap - Centre de conseils et d'appui en matière des droits humainsComité International de la Croix-Rouge (CICR)Département fédéral des affaires étrangères (DFAE)Ecole doctorale du GSIFASe - Fondation genevoise pour l'animation socioculturelleGlencoreGraduate Campus - UNIGEGreenseedHospice généralMcKinsey &amp; CompanyMédecins Sans Frontières Suisse (MSF)Nouvelle planèteOrganisation mondiale contre la torture (OMCT)Peace Brigades International (PBI)PictetProcter &amp; Gamble International Operations SASCI SuisseServices Industriels de Genève (SIG)UNICEF DI &amp; Geneva Research Lab for Digital ImpactUN Trade &amp; Development (UNCTAD)World Economic Forum
LOCATION:Uni Mail - Bd du Pont-d'Arve, 
URL:https://vie-de-campus.unige.ch/catalogue/P4016
END:VEVENT
END:VCALENDAR
