BEGIN:VCALENDAR
VERSION:2.0
PRODID:-//hacksw/handcal//NONSGML v1.0//EN
BEGIN:VEVENT
UID:29551@unige.ch
DTSTAMP:20260302T173000Z
DTSTART:20260302T173000Z
DTEND:20260302T183000Z
SUMMARY:Zoothérapie
DESCRIPTION:Cet atelier thérapeutique s'adresse aux étudiant·es qui souffrent de stress et souhaitent bénéficier personnellement de cet accompagnement pour travailler sur leurs difficultés. Important&nbsp;! Nous invitons les étudiant·es intéressé·es par une découverte à visée professionnelle ou de formation à se tourner vers d'autres opportunités, afin de réserver ces places aux personnes en demande d'aide thérapeutique pour elles-mêmes.
LOCATION:Uni Mail | M2020 - Bd du Pont d'Arve 40, 1205 Genève
URL:https://vie-de-campus.unige.ch/catalogue/P4024
END:VEVENT
BEGIN:VEVENT
UID:29350@unige.ch
DTSTAMP:20260316T173000Z
DTSTART:20260316T173000Z
DTEND:20260316T183000Z
SUMMARY:Zoothérapie
DESCRIPTION:Cet atelier thérapeutique s'adresse aux étudiant·es qui souffrent de stress et souhaitent bénéficier personnellement de cet accompagnement pour travailler sur leurs difficultés. Important&nbsp;! Nous invitons les étudiant·es intéressé·es par une découverte à visée professionnelle ou de formation à se tourner vers d'autres opportunités, afin de réserver ces places aux personnes en demande d'aide thérapeutique pour elles-mêmes.
LOCATION:Uni Mail | M2020 - Bd du Pont d'Arve 40, 1205 Genève
URL:https://vie-de-campus.unige.ch/catalogue/P4024
END:VEVENT
BEGIN:VEVENT
UID:29351@unige.ch
DTSTAMP:20260323T173000Z
DTSTART:20260323T173000Z
DTEND:20260323T183000Z
SUMMARY:Zoothérapie
DESCRIPTION:Cet atelier thérapeutique s'adresse aux étudiant·es qui souffrent de stress et souhaitent bénéficier personnellement de cet accompagnement pour travailler sur leurs difficultés. Important&nbsp;! Nous invitons les étudiant·es intéressé·es par une découverte à visée professionnelle ou de formation à se tourner vers d'autres opportunités, afin de réserver ces places aux personnes en demande d'aide thérapeutique pour elles-mêmes.
LOCATION:Uni Mail | M2020 - Bd du Pont d'Arve 40, 1205 Genève
URL:https://vie-de-campus.unige.ch/catalogue/P4024
END:VEVENT
BEGIN:VEVENT
UID:29352@unige.ch
DTSTAMP:20260330T163000Z
DTSTART:20260330T163000Z
DTEND:20260330T173000Z
SUMMARY:Zoothérapie
DESCRIPTION:Cet atelier thérapeutique s'adresse aux étudiant·es qui souffrent de stress et souhaitent bénéficier personnellement de cet accompagnement pour travailler sur leurs difficultés. Important&nbsp;! Nous invitons les étudiant·es intéressé·es par une découverte à visée professionnelle ou de formation à se tourner vers d'autres opportunités, afin de réserver ces places aux personnes en demande d'aide thérapeutique pour elles-mêmes.
LOCATION:Uni Mail | M2020 - Bd du Pont d'Arve 40, 1205 Genève
URL:https://vie-de-campus.unige.ch/catalogue/P4024
END:VEVENT
BEGIN:VEVENT
UID:29353@unige.ch
DTSTAMP:20260413T163000Z
DTSTART:20260413T163000Z
DTEND:20260413T173000Z
SUMMARY:Zoothérapie
DESCRIPTION:Cet atelier thérapeutique s'adresse aux étudiant·es qui souffrent de stress et souhaitent bénéficier personnellement de cet accompagnement pour travailler sur leurs difficultés. Important&nbsp;! Nous invitons les étudiant·es intéressé·es par une découverte à visée professionnelle ou de formation à se tourner vers d'autres opportunités, afin de réserver ces places aux personnes en demande d'aide thérapeutique pour elles-mêmes.
LOCATION:Uni Mail | M2020 - Bd du Pont d'Arve 40, 1205 Genève
URL:https://vie-de-campus.unige.ch/catalogue/P4024
END:VEVENT
BEGIN:VEVENT
UID:29354@unige.ch
DTSTAMP:20260420T163000Z
DTSTART:20260420T163000Z
DTEND:20260420T173000Z
SUMMARY:Zoothérapie
DESCRIPTION:Cet atelier thérapeutique s'adresse aux étudiant·es qui souffrent de stress et souhaitent bénéficier personnellement de cet accompagnement pour travailler sur leurs difficultés. Important&nbsp;! Nous invitons les étudiant·es intéressé·es par une découverte à visée professionnelle ou de formation à se tourner vers d'autres opportunités, afin de réserver ces places aux personnes en demande d'aide thérapeutique pour elles-mêmes.
LOCATION:Uni Mail | M2020 - Bd du Pont d'Arve 40, 1205 Genève
URL:https://vie-de-campus.unige.ch/catalogue/P4024
END:VEVENT
BEGIN:VEVENT
UID:29355@unige.ch
DTSTAMP:20260427T163000Z
DTSTART:20260427T163000Z
DTEND:20260427T173000Z
SUMMARY:Zoothérapie
DESCRIPTION:Cet atelier thérapeutique s'adresse aux étudiant·es qui souffrent de stress et souhaitent bénéficier personnellement de cet accompagnement pour travailler sur leurs difficultés. Important&nbsp;! Nous invitons les étudiant·es intéressé·es par une découverte à visée professionnelle ou de formation à se tourner vers d'autres opportunités, afin de réserver ces places aux personnes en demande d'aide thérapeutique pour elles-mêmes.
LOCATION:Uni Mail | M2020 - Bd du Pont d'Arve 40, 1205 Genève
URL:https://vie-de-campus.unige.ch/catalogue/P4024
END:VEVENT
END:VCALENDAR
