BEGIN:VCALENDAR
VERSION:2.0
PRODID:-//hacksw/handcal//NONSGML v1.0//EN
BEGIN:VEVENT
UID:29647@unige.ch
DTSTAMP:20260220T131500Z
DTSTART:20260220T131500Z
DTEND:20260220T150000Z
SUMMARY:Cours transversal de cinéma
DESCRIPTION:Projections publiquesDans le cadre du cours transversal de cinéma 4 séances de projections publiques sont programmées, en partenariat avec Fonction: cinéma et CinéluxMardi 10 mars, 19h | Fonction: cinémaRendez-vous avec Pol PotRéal. Rithy Panh, FR, TW, QA, 2024, 112', 16/16Projection&nbsp;précédée d'une discussion avec lrène Jacob animée par Valentina Calzolari&nbsp;Jeudi 16 avril, 18h30 | Fonction: cinémaAurora's SunriseRéal. Inna Sahakyan, DE, LT, 2022, 96', vo st fr, 16/16Projection&nbsp;suivie d'une discussion avec Victoria Abrahamyan et Valentina CalzoraliMardi 21 avril, 18h30 | Fonction: cinémaÀ pas aveuglesRéal. Christophe Cognet, FR, DE, 2020, 110', 16/16Projection&nbsp;suivie d'une discussion Jean Perret et Valentina CalzoraliLundi 11 mai, 18h15 | CinéluxAraratRéal. Atom Egoyan, CA, FR, 2002, 115', 16/16Projection&nbsp;suivie d'une discussion avec Arsinée Khanjian et Valentina Calzorali
LOCATION:Bâtiment des Philosophes | Phil 204 - Boulevard des Philosophes 22, 1204 Genève
URL:https://vie-de-campus.unige.ch/catalogue/P4063
END:VEVENT
BEGIN:VEVENT
UID:29648@unige.ch
DTSTAMP:20260227T131500Z
DTSTART:20260227T131500Z
DTEND:20260227T150000Z
SUMMARY:Cours transversal de cinéma
DESCRIPTION:Projections publiquesDans le cadre du cours transversal de cinéma 4 séances de projections publiques sont programmées, en partenariat avec Fonction: cinéma et CinéluxMardi 10 mars, 19h | Fonction: cinémaRendez-vous avec Pol PotRéal. Rithy Panh, FR, TW, QA, 2024, 112', 16/16Projection&nbsp;précédée d'une discussion avec lrène Jacob animée par Valentina Calzolari&nbsp;Jeudi 16 avril, 18h30 | Fonction: cinémaAurora's SunriseRéal. Inna Sahakyan, DE, LT, 2022, 96', vo st fr, 16/16Projection&nbsp;suivie d'une discussion avec Victoria Abrahamyan et Valentina CalzoraliMardi 21 avril, 18h30 | Fonction: cinémaÀ pas aveuglesRéal. Christophe Cognet, FR, DE, 2020, 110', 16/16Projection&nbsp;suivie d'une discussion Jean Perret et Valentina CalzoraliLundi 11 mai, 18h15 | CinéluxAraratRéal. Atom Egoyan, CA, FR, 2002, 115', 16/16Projection&nbsp;suivie d'une discussion avec Arsinée Khanjian et Valentina Calzorali
LOCATION:Bâtiment des Philosophes | Phil 204 - Boulevard des Philosophes 22, 1204 Genève
URL:https://vie-de-campus.unige.ch/catalogue/P4063
END:VEVENT
BEGIN:VEVENT
UID:29649@unige.ch
DTSTAMP:20260306T131500Z
DTSTART:20260306T131500Z
DTEND:20260306T150000Z
SUMMARY:Cours transversal de cinéma
DESCRIPTION:Projections publiquesDans le cadre du cours transversal de cinéma 4 séances de projections publiques sont programmées, en partenariat avec Fonction: cinéma et CinéluxMardi 10 mars, 19h | Fonction: cinémaRendez-vous avec Pol PotRéal. Rithy Panh, FR, TW, QA, 2024, 112', 16/16Projection&nbsp;précédée d'une discussion avec lrène Jacob animée par Valentina Calzolari&nbsp;Jeudi 16 avril, 18h30 | Fonction: cinémaAurora's SunriseRéal. Inna Sahakyan, DE, LT, 2022, 96', vo st fr, 16/16Projection&nbsp;suivie d'une discussion avec Victoria Abrahamyan et Valentina CalzoraliMardi 21 avril, 18h30 | Fonction: cinémaÀ pas aveuglesRéal. Christophe Cognet, FR, DE, 2020, 110', 16/16Projection&nbsp;suivie d'une discussion Jean Perret et Valentina CalzoraliLundi 11 mai, 18h15 | CinéluxAraratRéal. Atom Egoyan, CA, FR, 2002, 115', 16/16Projection&nbsp;suivie d'une discussion avec Arsinée Khanjian et Valentina Calzorali
LOCATION:Bâtiment des Philosophes | Phil 204 - Boulevard des Philosophes 22, 1204 Genève
URL:https://vie-de-campus.unige.ch/catalogue/P4063
END:VEVENT
BEGIN:VEVENT
UID:29650@unige.ch
DTSTAMP:20260313T131500Z
DTSTART:20260313T131500Z
DTEND:20260313T150000Z
SUMMARY:Cours transversal de cinéma
DESCRIPTION:Projections publiquesDans le cadre du cours transversal de cinéma 4 séances de projections publiques sont programmées, en partenariat avec Fonction: cinéma et CinéluxMardi 10 mars, 19h | Fonction: cinémaRendez-vous avec Pol PotRéal. Rithy Panh, FR, TW, QA, 2024, 112', 16/16Projection&nbsp;précédée d'une discussion avec lrène Jacob animée par Valentina Calzolari&nbsp;Jeudi 16 avril, 18h30 | Fonction: cinémaAurora's SunriseRéal. Inna Sahakyan, DE, LT, 2022, 96', vo st fr, 16/16Projection&nbsp;suivie d'une discussion avec Victoria Abrahamyan et Valentina CalzoraliMardi 21 avril, 18h30 | Fonction: cinémaÀ pas aveuglesRéal. Christophe Cognet, FR, DE, 2020, 110', 16/16Projection&nbsp;suivie d'une discussion Jean Perret et Valentina CalzoraliLundi 11 mai, 18h15 | CinéluxAraratRéal. Atom Egoyan, CA, FR, 2002, 115', 16/16Projection&nbsp;suivie d'une discussion avec Arsinée Khanjian et Valentina Calzorali
LOCATION:Bâtiment des Philosophes | Phil 204 - Boulevard des Philosophes 22, 1204 Genève
URL:https://vie-de-campus.unige.ch/catalogue/P4063
END:VEVENT
BEGIN:VEVENT
UID:29651@unige.ch
DTSTAMP:20260320T131500Z
DTSTART:20260320T131500Z
DTEND:20260320T150000Z
SUMMARY:Cours transversal de cinéma
DESCRIPTION:Projections publiquesDans le cadre du cours transversal de cinéma 4 séances de projections publiques sont programmées, en partenariat avec Fonction: cinéma et CinéluxMardi 10 mars, 19h | Fonction: cinémaRendez-vous avec Pol PotRéal. Rithy Panh, FR, TW, QA, 2024, 112', 16/16Projection&nbsp;précédée d'une discussion avec lrène Jacob animée par Valentina Calzolari&nbsp;Jeudi 16 avril, 18h30 | Fonction: cinémaAurora's SunriseRéal. Inna Sahakyan, DE, LT, 2022, 96', vo st fr, 16/16Projection&nbsp;suivie d'une discussion avec Victoria Abrahamyan et Valentina CalzoraliMardi 21 avril, 18h30 | Fonction: cinémaÀ pas aveuglesRéal. Christophe Cognet, FR, DE, 2020, 110', 16/16Projection&nbsp;suivie d'une discussion Jean Perret et Valentina CalzoraliLundi 11 mai, 18h15 | CinéluxAraratRéal. Atom Egoyan, CA, FR, 2002, 115', 16/16Projection&nbsp;suivie d'une discussion avec Arsinée Khanjian et Valentina Calzorali
LOCATION:Bâtiment des Philosophes | Phil 204 - Boulevard des Philosophes 22, 1204 Genève
URL:https://vie-de-campus.unige.ch/catalogue/P4063
END:VEVENT
BEGIN:VEVENT
UID:29652@unige.ch
DTSTAMP:20260327T131500Z
DTSTART:20260327T131500Z
DTEND:20260327T150000Z
SUMMARY:Cours transversal de cinéma
DESCRIPTION:Projections publiquesDans le cadre du cours transversal de cinéma 4 séances de projections publiques sont programmées, en partenariat avec Fonction: cinéma et CinéluxMardi 10 mars, 19h | Fonction: cinémaRendez-vous avec Pol PotRéal. Rithy Panh, FR, TW, QA, 2024, 112', 16/16Projection&nbsp;précédée d'une discussion avec lrène Jacob animée par Valentina Calzolari&nbsp;Jeudi 16 avril, 18h30 | Fonction: cinémaAurora's SunriseRéal. Inna Sahakyan, DE, LT, 2022, 96', vo st fr, 16/16Projection&nbsp;suivie d'une discussion avec Victoria Abrahamyan et Valentina CalzoraliMardi 21 avril, 18h30 | Fonction: cinémaÀ pas aveuglesRéal. Christophe Cognet, FR, DE, 2020, 110', 16/16Projection&nbsp;suivie d'une discussion Jean Perret et Valentina CalzoraliLundi 11 mai, 18h15 | CinéluxAraratRéal. Atom Egoyan, CA, FR, 2002, 115', 16/16Projection&nbsp;suivie d'une discussion avec Arsinée Khanjian et Valentina Calzorali
LOCATION:Bâtiment des Philosophes | Phil 204 - Boulevard des Philosophes 22, 1204 Genève
URL:https://vie-de-campus.unige.ch/catalogue/P4063
END:VEVENT
BEGIN:VEVENT
UID:29655@unige.ch
DTSTAMP:20260417T121500Z
DTSTART:20260417T121500Z
DTEND:20260417T140000Z
SUMMARY:Cours transversal de cinéma
DESCRIPTION:Projections publiquesDans le cadre du cours transversal de cinéma 4 séances de projections publiques sont programmées, en partenariat avec Fonction: cinéma et CinéluxMardi 10 mars, 19h | Fonction: cinémaRendez-vous avec Pol PotRéal. Rithy Panh, FR, TW, QA, 2024, 112', 16/16Projection&nbsp;précédée d'une discussion avec lrène Jacob animée par Valentina Calzolari&nbsp;Jeudi 16 avril, 18h30 | Fonction: cinémaAurora's SunriseRéal. Inna Sahakyan, DE, LT, 2022, 96', vo st fr, 16/16Projection&nbsp;suivie d'une discussion avec Victoria Abrahamyan et Valentina CalzoraliMardi 21 avril, 18h30 | Fonction: cinémaÀ pas aveuglesRéal. Christophe Cognet, FR, DE, 2020, 110', 16/16Projection&nbsp;suivie d'une discussion Jean Perret et Valentina CalzoraliLundi 11 mai, 18h15 | CinéluxAraratRéal. Atom Egoyan, CA, FR, 2002, 115', 16/16Projection&nbsp;suivie d'une discussion avec Arsinée Khanjian et Valentina Calzorali
LOCATION:Bâtiment des Philosophes | Phil 204 - Boulevard des Philosophes 22, 1204 Genève
URL:https://vie-de-campus.unige.ch/catalogue/P4063
END:VEVENT
BEGIN:VEVENT
UID:29656@unige.ch
DTSTAMP:20260424T121500Z
DTSTART:20260424T121500Z
DTEND:20260424T140000Z
SUMMARY:Cours transversal de cinéma
DESCRIPTION:Projections publiquesDans le cadre du cours transversal de cinéma 4 séances de projections publiques sont programmées, en partenariat avec Fonction: cinéma et CinéluxMardi 10 mars, 19h | Fonction: cinémaRendez-vous avec Pol PotRéal. Rithy Panh, FR, TW, QA, 2024, 112', 16/16Projection&nbsp;précédée d'une discussion avec lrène Jacob animée par Valentina Calzolari&nbsp;Jeudi 16 avril, 18h30 | Fonction: cinémaAurora's SunriseRéal. Inna Sahakyan, DE, LT, 2022, 96', vo st fr, 16/16Projection&nbsp;suivie d'une discussion avec Victoria Abrahamyan et Valentina CalzoraliMardi 21 avril, 18h30 | Fonction: cinémaÀ pas aveuglesRéal. Christophe Cognet, FR, DE, 2020, 110', 16/16Projection&nbsp;suivie d'une discussion Jean Perret et Valentina CalzoraliLundi 11 mai, 18h15 | CinéluxAraratRéal. Atom Egoyan, CA, FR, 2002, 115', 16/16Projection&nbsp;suivie d'une discussion avec Arsinée Khanjian et Valentina Calzorali
LOCATION:Bâtiment des Philosophes | Phil 204 - Boulevard des Philosophes 22, 1204 Genève
URL:https://vie-de-campus.unige.ch/catalogue/P4063
END:VEVENT
BEGIN:VEVENT
UID:29658@unige.ch
DTSTAMP:20260508T121500Z
DTSTART:20260508T121500Z
DTEND:20260508T140000Z
SUMMARY:Cours transversal de cinéma
DESCRIPTION:Projections publiquesDans le cadre du cours transversal de cinéma 4 séances de projections publiques sont programmées, en partenariat avec Fonction: cinéma et CinéluxMardi 10 mars, 19h | Fonction: cinémaRendez-vous avec Pol PotRéal. Rithy Panh, FR, TW, QA, 2024, 112', 16/16Projection&nbsp;précédée d'une discussion avec lrène Jacob animée par Valentina Calzolari&nbsp;Jeudi 16 avril, 18h30 | Fonction: cinémaAurora's SunriseRéal. Inna Sahakyan, DE, LT, 2022, 96', vo st fr, 16/16Projection&nbsp;suivie d'une discussion avec Victoria Abrahamyan et Valentina CalzoraliMardi 21 avril, 18h30 | Fonction: cinémaÀ pas aveuglesRéal. Christophe Cognet, FR, DE, 2020, 110', 16/16Projection&nbsp;suivie d'une discussion Jean Perret et Valentina CalzoraliLundi 11 mai, 18h15 | CinéluxAraratRéal. Atom Egoyan, CA, FR, 2002, 115', 16/16Projection&nbsp;suivie d'une discussion avec Arsinée Khanjian et Valentina Calzorali
LOCATION:Bâtiment des Philosophes | Phil 204 - Boulevard des Philosophes 22, 1204 Genève
URL:https://vie-de-campus.unige.ch/catalogue/P4063
END:VEVENT
BEGIN:VEVENT
UID:29659@unige.ch
DTSTAMP:20260515T121500Z
DTSTART:20260515T121500Z
DTEND:20260515T140000Z
SUMMARY:Cours transversal de cinéma
DESCRIPTION:Projections publiquesDans le cadre du cours transversal de cinéma 4 séances de projections publiques sont programmées, en partenariat avec Fonction: cinéma et CinéluxMardi 10 mars, 19h | Fonction: cinémaRendez-vous avec Pol PotRéal. Rithy Panh, FR, TW, QA, 2024, 112', 16/16Projection&nbsp;précédée d'une discussion avec lrène Jacob animée par Valentina Calzolari&nbsp;Jeudi 16 avril, 18h30 | Fonction: cinémaAurora's SunriseRéal. Inna Sahakyan, DE, LT, 2022, 96', vo st fr, 16/16Projection&nbsp;suivie d'une discussion avec Victoria Abrahamyan et Valentina CalzoraliMardi 21 avril, 18h30 | Fonction: cinémaÀ pas aveuglesRéal. Christophe Cognet, FR, DE, 2020, 110', 16/16Projection&nbsp;suivie d'une discussion Jean Perret et Valentina CalzoraliLundi 11 mai, 18h15 | CinéluxAraratRéal. Atom Egoyan, CA, FR, 2002, 115', 16/16Projection&nbsp;suivie d'une discussion avec Arsinée Khanjian et Valentina Calzorali
LOCATION:Bâtiment des Philosophes | Phil 204 - Boulevard des Philosophes 22, 1204 Genève
URL:https://vie-de-campus.unige.ch/catalogue/P4063
END:VEVENT
END:VCALENDAR
