BEGIN:VCALENDAR
VERSION:2.0
PRODID:-//hacksw/handcal//NONSGML v1.0//EN
BEGIN:VEVENT
UID:29683@unige.ch
DTSTAMP:20260514T180000Z
DTSTART:20260514T180000Z
DTEND:20260514T193000Z
SUMMARY:Gli sposi non spromessi
DESCRIPTION:Entrée libre, chapeau à la sortie.Spectacle joué en italien sous-titré en français et en anglais
LOCATION:Uni Mail | Salle de spectacle (MS 180) - Boulevard du Pont-d’Arve 40, 1205 Genève
GEO:46.195041;6.139897
URL:https://vie-de-campus.unige.ch/catalogue/P4082
END:VEVENT
BEGIN:VEVENT
UID:29684@unige.ch
DTSTAMP:20260515T180000Z
DTSTART:20260515T180000Z
DTEND:20260515T193000Z
SUMMARY:Gli sposi non spromessi
DESCRIPTION:Entrée libre, chapeau à la sortie.Spectacle joué en italien sous-titré en français et en anglais
LOCATION:Uni Mail | Salle de spectacle (MS 180) - Boulevard du Pont-d’Arve 40, 1205 Genève
GEO:46.195041;6.139897
URL:https://vie-de-campus.unige.ch/catalogue/P4082
END:VEVENT
BEGIN:VEVENT
UID:29685@unige.ch
DTSTAMP:20260516T180000Z
DTSTART:20260516T180000Z
DTEND:20260516T193000Z
SUMMARY:Gli sposi non spromessi
DESCRIPTION:Entrée libre, chapeau à la sortie.Spectacle joué en italien sous-titré en français et en anglais
LOCATION:Uni Mail | Salle de spectacle (MS 180) - Boulevard du Pont-d’Arve 40, 1205 Genève
GEO:46.195041;6.139897
URL:https://vie-de-campus.unige.ch/catalogue/P4082
END:VEVENT
BEGIN:VEVENT
UID:29686@unige.ch
DTSTAMP:20260517T160000Z
DTSTART:20260517T160000Z
DTEND:20260517T173000Z
SUMMARY:Gli sposi non spromessi
DESCRIPTION:Entrée libre, chapeau à la sortie.Spectacle joué en italien sous-titré en français et en anglais
LOCATION:Uni Mail | Salle de spectacle (MS 180) - Boulevard du Pont-d’Arve 40, 1205 Genève
GEO:46.195041;6.139897
URL:https://vie-de-campus.unige.ch/catalogue/P4082
END:VEVENT
END:VCALENDAR
