BEGIN:VCALENDAR
VERSION:2.0
PRODID:-//hacksw/handcal//NONSGML v1.0//EN
BEGIN:VEVENT
UID:29713@unige.ch
DTSTAMP:20260523T160000Z
DTSTART:20260523T160000Z
DTEND:20260523T173000Z
SUMMARY:Je te prêterai mes yeux
DESCRIPTION:Entrée libre, chapeau à la sortie
LOCATION:Uni Mail | Salle de spectacle (MS 180) - Boulevard du Pont-d’Arve 40, 1205 Genève
GEO:46.195041;6.139897
URL:https://vie-de-campus.unige.ch/catalogue/P4099
END:VEVENT
BEGIN:VEVENT
UID:29714@unige.ch
DTSTAMP:20260523T183000Z
DTSTART:20260523T183000Z
DTEND:20260523T200000Z
SUMMARY:Je te prêterai mes yeux
DESCRIPTION:Entrée libre, chapeau à la sortie
LOCATION:Uni Mail | Salle de spectacle (MS 180) - Boulevard du Pont-d’Arve 40, 1205 Genève
GEO:46.195041;6.139897
URL:https://vie-de-campus.unige.ch/catalogue/P4099
END:VEVENT
BEGIN:VEVENT
UID:29715@unige.ch
DTSTAMP:20260524T160000Z
DTSTART:20260524T160000Z
DTEND:20260524T173000Z
SUMMARY:Je te prêterai mes yeux
DESCRIPTION:Entrée libre, chapeau à la sortie
LOCATION:Uni Mail | Salle de spectacle (MS 180) - Boulevard du Pont-d’Arve 40, 1205 Genève
GEO:46.195041;6.139897
URL:https://vie-de-campus.unige.ch/catalogue/P4099
END:VEVENT
END:VCALENDAR
