BEGIN:VCALENDAR
VERSION:2.0
PRODID:-//hacksw/handcal//NONSGML v1.0//EN
BEGIN:VEVENT
UID:29719@unige.ch
DTSTAMP:20260310T180000Z
DTSTART:20260310T180000Z
DTEND:20260310T210000Z
SUMMARY:Rendez-vous avec Pol Pot
DESCRIPTION:Projection publique dans le cadre du Cours transversal de cinéma en collaboration avec la Maison de l'histoire et l'Unité d'arménien
LOCATION:Salle Fonction:Cinéma - Maison des Arts du Grütli, 1204 Genève
GEO:46.20145;6.14175
URL:https://vie-de-campus.unige.ch/catalogue/P4101
END:VEVENT
END:VCALENDAR
