BEGIN:VCALENDAR
VERSION:2.0
PRODID:-//hacksw/handcal//NONSGML v1.0//EN
BEGIN:VEVENT
UID:29734@unige.ch
DTSTAMP:20260520T180000Z
DTSTART:20260520T180000Z
DTEND:20260520T193000Z
SUMMARY:Concert du Chœur de musiques actuelles UniVox
DESCRIPTION:Entrée libre, chapeau à la sortie
LOCATION:Salle Frank Martin - 3 Rue de la Vallée, 1204 Genève
URL:https://vie-de-campus.unige.ch/catalogue/P4112
END:VEVENT
END:VCALENDAR
