BEGIN:VCALENDAR
VERSION:2.0
PRODID:-//hacksw/handcal//NONSGML v1.0//EN
BEGIN:VEVENT
UID:29760@unige.ch
DTSTAMP:20260507T180000Z
DTSTART:20260507T180000Z
DTEND:20260507T190000Z
SUMMARY:Concert du Chœur de chambre
DESCRIPTION:Entrée libre, chapeau à la sortie
LOCATION:Temple de Plainpalais - Av. du Mail 31, 1205 Genève
URL:https://vie-de-campus.unige.ch/catalogue/P4114
END:VEVENT
END:VCALENDAR
