BEGIN:VCALENDAR
VERSION:2.0
PRODID:-//hacksw/handcal//NONSGML v1.0//EN
BEGIN:VEVENT
UID:29740@unige.ch
DTSTAMP:20260505T173000Z
DTSTART:20260505T173000Z
DTEND:20260505T190000Z
SUMMARY:Théâtre-forum sur le racisme : Eli et Laïla
DESCRIPTION:Entrée libre
LOCATION:Uni Mail | Salle de spectacle (MS 180) - Boulevard du Pont-d’Arve 40, 1205 Genève
GEO:46.195041;6.139897
URL:https://vie-de-campus.unige.ch/catalogue/P4116
END:VEVENT
END:VCALENDAR
