BEGIN:VCALENDAR
VERSION:2.0
PRODID:-//hacksw/handcal//NONSGML v1.0//EN
BEGIN:VEVENT
UID:29742@unige.ch
DTSTAMP:20260523T180000Z
DTSTART:20260523T180000Z
DTEND:20260523T193000Z
SUMMARY:Concert de l'Orchestre de l'Université
DESCRIPTION:Entrée libre, chapeau à la sortie
LOCATION:Salle Frank Martin - 3 Rue de la Vallée, 1204 Genève
URL:https://vie-de-campus.unige.ch/catalogue/P4119
END:VEVENT
END:VCALENDAR
