BEGIN:VCALENDAR
VERSION:2.0
PRODID:-//hacksw/handcal//NONSGML v1.0//EN
BEGIN:VEVENT
UID:29745@unige.ch
DTSTAMP:20260430T183000Z
DTSTART:20260430T183000Z
DTEND:20260430T200000Z
SUMMARY:Match d'improvisation théâtrale
DESCRIPTION:Entrée libre, chapeau à la sortie
LOCATION:Uni Mail | Salle de spectacle (MS 180) - Boulevard du Pont-d’Arve 40, 1205 Genève
GEO:46.195041;6.139897
URL:https://vie-de-campus.unige.ch/catalogue/P4121
END:VEVENT
END:VCALENDAR
