BEGIN:VCALENDAR
VERSION:2.0
PRODID:-//hacksw/handcal//NONSGML v1.0//EN
BEGIN:VEVENT
UID:29748@unige.ch
DTSTAMP:20260428T100000Z
DTSTART:20260428T100000Z
DTEND:20260428T120000Z
SUMMARY:Atelier mah-jong
DESCRIPTION:Gratuit, sur inscription (bouton ajouter au panier)Matériel fourni par l’association ESTASIA
LOCATION:Uni Mail | Verrière (3e étage) - Bd du Pont-d'Arve 40, 1205 Genève
URL:https://vie-de-campus.unige.ch/catalogue/P4123
END:VEVENT
END:VCALENDAR
