BEGIN:VCALENDAR
VERSION:2.0
PRODID:-//hacksw/handcal//NONSGML v1.0//EN
BEGIN:VEVENT
UID:29751@unige.ch
DTSTAMP:20260430T141500Z
DTSTART:20260430T141500Z
DTEND:20260430T160000Z
SUMMARY:Atelier poterie
DESCRIPTION:Gratuit, sur inscription (bouton ajouter au panier)L'atelier est ouvert à tous niveaux
LOCATION:Uni Dufour | Point Vie de Campus - 24 Rue du Général-Dufour, 1204 Genève
URL:https://vie-de-campus.unige.ch/catalogue/P4126
END:VEVENT
END:VCALENDAR
