BEGIN:VCALENDAR
VERSION:2.0
PRODID:-//hacksw/handcal//NONSGML v1.0//EN
BEGIN:VEVENT
UID:29755@unige.ch
DTSTAMP:20260521T101500Z
DTSTART:20260521T101500Z
DTEND:20260521T120000Z
SUMMARY:Atelier cyanotype
DESCRIPTION:Gratuit, sur inscription (bouton ajouter au panier)
LOCATION:Uni Mail | Verrière (3e étage) - Bd du Pont-d'Arve 40, 1205 Genève
URL:https://vie-de-campus.unige.ch/catalogue/P4130
END:VEVENT
END:VCALENDAR
