BEGIN:VCALENDAR
VERSION:2.0
PRODID:-//hacksw/handcal//NONSGML v1.0//EN
BEGIN:VEVENT
UID:29757@unige.ch
DTSTAMP:20260520T161500Z
DTSTART:20260520T161500Z
DTEND:20260520T180000Z
SUMMARY:Atelier Genève Débat
DESCRIPTION:Gratuit, sur inscription (bouton ajouter au panier)
LOCATION:Uni Mail | M2150 - 40 Bd du Pont-d'Arve, 1205 Genève
URL:https://vie-de-campus.unige.ch/catalogue/P4132
END:VEVENT
END:VCALENDAR
