BEGIN:VCALENDAR
VERSION:2.0
PRODID:-//hacksw/handcal//NONSGML v1.0//EN
BEGIN:VEVENT
UID:29762@unige.ch
DTSTAMP:20260512T160000Z
DTSTART:20260512T160000Z
DTEND:20260512T170000Z
SUMMARY:Mangeront-ils ? d’après Victor Hugo
DESCRIPTION:Entrée libre
LOCATION:Uni Dufour | Point Vie de Campus - 24 Rue du Général-Dufour, 1204 Genève
URL:https://vie-de-campus.unige.ch/catalogue/P4136
END:VEVENT
END:VCALENDAR
