BEGIN:VCALENDAR
VERSION:2.0
PRODID:-//hacksw/handcal//NONSGML v1.0//EN
BEGIN:VEVENT
UID:29763@unige.ch
DTSTAMP:20260513T160000Z
DTSTART:20260513T160000Z
DTEND:20260513T170000Z
SUMMARY:Florilèges 2024-2025
DESCRIPTION:Entrée libre
LOCATION:Uni Dufour | Point Vie de Campus - 24 Rue du Général-Dufour, 1204 Genève
URL:https://vie-de-campus.unige.ch/catalogue/P4137
END:VEVENT
END:VCALENDAR
